Workbook

Sheet MODEL COMPLETARE
B2: 1. Baza de date este defalcată pe ani școlari, începând cu anul școlar 2012-2013, când s-au înființat clase cu elemente de dual.
B3: 2. Bazele de date pentru anii școlari de debut 2012-2013, 2013-2014, 2014-2015, 2015-2016, respectiv 2016-2017, se vor completa doar cu clase de învățământ profesional sau de învățământ profesional cu elemente de dual
B4: 3. Începând cu anul școlar 2017-2018, baza de date se referă la clase de învățământ profesional, respectiv învățământ dual.
B5: 4. Vă rugăm ca datele privind calificări diferite și operatori economici diferiți să utilizați rânduri diferite ca în model, pentru a putea vizualiza numărul efectiv de locuri susținut de fiecare operator economic în parte.
B6: 5. Denumirile
B8: Nr. crt. | C8: Unitatea de învățământ | D8: JUDEȚ | E8: LOCALITATE | F8: Oferta propusă de unitatea de învăţământ pentru clasa a IX-a înv. profesional / profesional dual, 2019-2020 | K8: Denumirea operatorilor economici cu care sunt încheiate contracte-cadru pentru practică
F9: Domeniul de pregătire | G9: Calificarea profesională | H9: Forma de organizare ( înv.prof / înv. dual) | I9: Propuneri nr. clase | J9: Propuneri nr. locuri
B10: 1 | C10: Unitatea X | D10: Județ Y | E10: Localitatea Z | F10: mecanică | G10: tinichigiu vopsitor auto | H10: dual | I10: 1 | J10: 3 | K10: Operator ec 1
C11: Unitatea X | D11: Județ Y | E11: Localitatea Z | F11: mecanică | G11: tinichigiu vopsitor auto | H11: dual | J11: 4 | K11: Operator ec 2
C12: Unitatea X | D12: Județ Y | E12: Localitatea Z | F12: mecanică | G12: tinichigiu vopsitor auto | H12: dual | J12: 8 | K12: Operator ec 3
C13: Unitatea X | D13: Județ Y | E13: Localitatea Z | F13: mecanică | G13: mecanic auto | H13: dual | J13: 13 | K13: Operator ec 1

Sheet 2019-2020
B6: Nr. crt. | C6: Unitatea de învățământ | D6: JUDEȚ | E6: LOCALITATE | F6: Oferta propusă de unitatea de învăţământ pentru clasa a IX-a înv. profesional / profesional dual, 2019-2020 | K6: Denumirea operatorilor economici cu care sunt încheiate contracte-cadru pentru practică
F7: Domeniul de pregătire | G7: Calificarea profesională | H7: Forma de organizare ( înv.prof / înv. dual) | I7: Propuneri nr. clase | J7: Propuneri nr. locuri
B8: ='2018-2019'!B8 -> 1 | C8: ='2018-2019'!C8 -> LICEUL TEORETIC GHELARI | D8: ='2018-2019'!D8 -> HUNEDOARA | E8: ='2018-2019'!E8 -> GHELARI | F8: ='2018-2019'!F8 -> TURISM SI ALIMENTATIE | G8: ='2018-2019'!G8 -> CHELNER (OSPATAR) VANZATOR IN ALIMENTATIE | H8: ='2018-2019'!H8 -> INVATAMANT PROFESIONAL | I8: 1 | J8: 14 | K8: ASOCIATIA NONPROFIT L&C CONSULTING
B9: ='2018-2019'!B9 -> 2 | C9: ='2018-2019'!C9 -> LICEUL TEORETIC GHELARI | D9: ='2018-2019'!D9 -> HUNEDOARA | E9: ='2018-2019'!E9 -> GHELARI | F9: ='2018-2019'!F9 -> TURISM SI ALIMENTATIE | G9: ='2018-2019'!G9 -> CHELNER (OSPATAR) VANZATOR IN ALIMENTATIE | H9: ='2018-2019'!H9 -> INVATAMANT PROFESIONAL | K9: SC MAIER COMPANY COMEX SRL
B10: ='2018-2019'!B10 -> 3 | C10: ='2018-2019'!C10 -> LICEUL TEORETIC GHELARI | D10: ='2018-2019'!D10 -> HUNEDOARA | E10: ='2018-2019'!E10 -> GHELARI | F10: ='2018-2019'!F10 -> TURISM SI ALIMENTATIE | G10: ='2018-2019'!G10 -> CHELNER (OSPATAR) VANZATOR IN ALIMENTATIE | H10: ='2018-2019'!H10 -> INVATAMANT PROFESIONAL | K10: SC T&O PRODCOM SRL

Sheet 2018-2019
B6: Nr. crt. | C6: Unitatea de învățământ | D6: JUDEȚ | E6: LOCALITATE | F6: Oferta propusă de unitatea de învăţământ pentru clasa a IX-a înv. profesional / profesional dual, 2018-2019 | K6: Nr. elevi înscriși la începutul anului școlar | L6: Denumirea operatorilor economici cu care sunt încheiate contracte-cadru pentru practică
F7: Domeniul de pregătire | G7: Calificarea profesională | H7: Forma de organizare ( înv.prof / înv. dual) | I7: Propuneri nr. clase | J7: Propuneri nr. locuri
B8: ='2017-2018'!B8 -> 1 | C8: ='2017-2018'!C8 -> LICEUL TEORETIC GHELARI | D8: ='2017-2018'!D8 -> HUNEDOARA | E8: ='2017-2018'!E8 -> GHELARI | F8: TURISM SI ALIMENTATIE | G8: ='2017-2018'!G8 -> CHELNER (OSPATAR) VANZATOR IN ALIMENTATIE | H8: ='2017-2018'!H8 -> INVATAMANT PROFESIONAL | I8: 1 | J8: 11 | K8: 10 | L8: ASOCIATIA NONPROFIT L&C CONSULTING
B9: 2 | C9: =C8 -> LICEUL TEORETIC GHELARI | D9: =D8 -> HUNEDOARA | E9: =E8 -> GHELARI | F9: =F8 -> TURISM SI ALIMENTATIE | G9: =G8 -> CHELNER (OSPATAR) VANZATOR IN ALIMENTATIE | H9: =H8 -> INVATAMANT PROFESIONAL | L9: SC MAIER COMPANY COMEX SRL
B10: 3 | C10: =C9 -> LICEUL TEORETIC GHELARI | D10: =D9 -> HUNEDOARA | E10: =E9 -> GHELARI | F10: =F9 -> TURISM SI ALIMENTATIE | G10: =G9 -> CHELNER (OSPATAR) VANZATOR IN ALIMENTATIE | H10: =H9 -> INVATAMANT PROFESIONAL | L10: SC T&O PRODCOM SRL
B11: 4 | C11: =C10 -> LICEUL TEORETIC GHELARI | D11: =D10 -> HUNEDOARA | E11: =E10 -> GHELARI | F11: =F10 -> TURISM SI ALIMENTATIE | G11: =G10 -> CHELNER (OSPATAR) VANZATOR IN ALIMENTATIE | H11: =H10 -> INVATAMANT PROFESIONAL | L11: SC GALENA CLUB SRL

Sheet 2017-2018
B6: Nr. crt. | C6: Unitatea de învățământ | D6: JUDEȚ | E6: LOCALITATE | F6: Oferta propusă de unitatea de învăţământ pentru clasa a IX-a înv. profesional / profesional dual, 2017-2018 | K6: Nr. elevi înscriși la începutul anului școlar 2017-2018, clasa a IX-a | L6: Nr elevi înscriși la începutul anului școlar 2018-2019, clasa a X-a | M6: Denumirea operatorilor economici cu care sunt încheiate contracte-cadru pentru practică
F7: Domeniul de pregătire | G7: Calificarea profesională | H7: Forma de organizare ( înv.prof / înv. dual) | I7: Propuneri nr. clase | J7: Propuneri nr. locuri
B8: 1 | C8: LICEUL TEORETIC GHELARI | D8: HUNEDOARA | E8: GHELARI | F8: TURISM SI ALIMENTATIE | G8: CHELNER (OSPATAR) VANZATOR IN ALIMENTATIE | H8: INVATAMANT PROFESIONAL | I8: 1 | J8: 11 | K8: 11 | L8: 10

Sheet 2016-2017
B6: Nr. crt. | C6: Unitatea de învățământ | D6: JUDEȚ | E6: LOCALITATE | F6: Oferta propusă de unitatea de învăţământ pentru clasa a IX-a înv. profesional / profesional cu elemente de dual, 2016-2017 | K6: Nr. elevi înscriși la începutul anului școlar 2016-2017, clasa a IX-a | L6: Nr elevi înscriși la începutul anului școlar 2017-2018, clasa a X-a | M6: Nr elevi înscriși la începutul anului școlar 2018-2019, clasa a XI-a | N6: Denumirea operatorilor economici cu care sunt încheiate contracte-cadru pentru practică
F7: Domeniul de pregătire | G7: Calificarea profesională | H7: Forma de organizare ( înv.prof / înv. cu elemente de dual) | I7: Propuneri nr. clase | J7: Propuneri nr. locuri

Sheet 2015-2016
B6: Nr. crt. | C6: Unitatea de învățământ | D6: JUDEȚ | E6: LOCALITATE | F6: Oferta propusă de unitatea de învăţământ pentru clasa a IX-a înv. profesional / profesional cu elemente de dual, 2015-2016 | K6: Nr. elevi înscriși la începutul anului școlar 2015-2016, clasa a IX-a | L6: Nr elevi care au finalizat cu certificarea profesională (seria 2018) | M6: Denumirea operatorilor economici cu care sunt încheiate contracte-cadru pentru practică
F7: Domeniul de pregătire | G7: Calificarea profesională | H7: Forma de organizare ( înv.prof / înv. cu elemente de dual) | I7: Propuneri nr. clase | J7: Propuneri nr. locuri

Sheet 2014-2015
B6: Nr. crt. | C6: Unitatea de învățământ | D6: JUDEȚ | E6: LOCALITATE | F6: Oferta propusă de unitatea de învăţământ pentru clasa a IX-a înv. profesional / profesional cu elemente de dual, 2014-2015 | K6: Nr. elevi înscriși la începutul anului școlar 2014-2015, clasa a IX-a | L6: Nr elevi care au finalizat cu certificarea profesională (seria 2017) | M6: Denumirea operatorilor economici cu care sunt încheiate contracte-cadru pentru practică
F7: Domeniul de pregătire | G7: Calificarea profesională | H7: Forma de organizare ( înv.prof / înv. prof cu elemente de dual) | I7: Propuneri nr. clase | J7: Propuneri nr. locuri

Sheet 2013-2014
B6: Nr. crt. | C6: Unitatea de învățământ | D6: JUDEȚ | E6: LOCALITATE | F6: Oferta propusă de unitatea de învăţământ pentru clasa a IX-a înv. profesional / profesional cu elemente de dual, 2013-2014 | K6: Nr. elevi înscriși la începutul anului școlar 2013-2014, clasa a IX-a | L6: Nr elevi care au finalizat cu certificarea profesională (seria 2015/2016) | M6: Denumirea operatorilor economici cu care sunt încheiate contracte-cadru pentru practică
F7: Domeniul de pregătire | G7: Calificarea profesională | H7: Forma de organizare ( înv.prof / înv. cu elemente de dual) | I7: Propuneri nr. clase | J7: Propuneri nr. locuri

Sheet 2012-2013
B6: Nr. crt. | C6: Unitatea de învățământ | D6: JUDEȚ | E6: LOCALITATE | F6: Oferta propusă de unitatea de învăţământ pentru clasa a IX-a înv. profesional / profesional cu elemente de dual, 2012-2013 | K6: Nr. elevi înscriși la începutul anului școlar 2012-2013, clasa a IX-a | L6: Nr elevi care au finalizat cu certificarea profesională (seria 2014/2015) | M6: Denumirea operatorilor economici cu care sunt încheiate contracte-cadru pentru practică
F7: Domeniul de pregătire | G7: Calificarea profesională | H7: Forma de organizare ( înv.prof / înv. cu elemente de dual) | I7: Propuneri nr. clase | J7: Propuneri nr. locuri
