Workbook

Sheet CL a IX a INV DE MASA + SPECIAL
A1: Inspectoratul Şcolar …………….
A3: ANALIZA PLANULUI DE ȘCOLARIZARE REALIZAT LA CLASA A IX-A ÎNVĂŢĂMÂNT DE MASĂ + SPECIAL, DE ZI, ÎN ANUL ŞCOLAR 2021 -2022, COMPARATIV CU ANUL ŞCOLAR 2020-2021
A4: NOTĂ: SE GENEREAZĂ AUTOMAT
A5: FILIERA/PROFILUL | B5: SPECIALIZARE | C5: DOMENIUL PREGATIRII DE BAZĂ | D5: Număr de clase şi număr de elevi | T5: Ponderi
D6: EXISTENT 2020-2021 | L6: EXISTENT 2021-2022 | T6: EXISTENT 2020-2021 | X6: EXISTENT 2021-2022
D7: Clasa a IX-a, LICEU ZI | F7: Clasa a IX-a, PROFESIONAL + DUAL | H7: Clasa a IX-a, DUAL | J7: TOTAL Clasa a IX-a, LICEU ZI+ PROFESIONAL + DUAL | L7: Clasa a IX-a, LICEU ZI | N7: Clasa a IX-a, PROFESIONAL + DUAL | P7: Clasa a IX-a, DUAL | R7: TOTAL Clasa a IX-a, LICEU ZI+ PROFESIONAL + DUAL | T7: Clasa a IX-a, LICEU zi, | U7: Clasa a IX-a, PROFESIONAL ŞI DUAL | V7: Clasa a IX-a, DUAL | W7: Clasa a IX-a, zi, LICEU zi + PROFESIONAL + DUAL | X7: Clasa a IX-a, LICEU zi | Y7: Clasa a IX-a, PROFESIONAL+ DUAL | Z7: Clasa a IX-a, DUAL | AA7: Clasa a IX-a, LICEU zi + PROFESIONAL+ DUAL
D8: Nr.cl. | E8: Nr. elevi | F8: Nr.cl. | G8: Nr. elevi | H8: Nr.cl. | I8: Nr. elevi | J8: Nr.cl. | K8: Nr. elevi | L8: Nr.cl. | M8: Nr. elevi | N8: Nr.cl. | O8: Nr. elevi | P8: Nr.cl. | Q8: Nr. elevi | R8: Nr.cl. | S8: Nr. elevi | AD8: Învăţământ liceal filiera teoretică | AE8: Învăţământ liceal filiera tehnologică | AF8: Învăţământ liceal filiera vocaţională | AG8: Învăţământ profesional
A9: TOTAL CL A IX-A ZI , din care : | D9: =D10+D17+D40 -> 4 | E9: =E10+E17+E40 -> 112 | F9: =F10+F17+F40 -> 0 | G9: =G10+G17+G40 -> 0 | H9: =H10+H17+H40 -> 0 | I9: =I10+I17+I40 -> 0 | J9: =D9+F9 -> 4 | K9: =E9+G9 -> 112 | L9: =L10+L17+L40 -> 4 | M9: =M10+M17+M40 -> 104 | N9: =N10+N17+N40 -> 0 | O9: =O10+O17+O40 -> 0 | P9: =P10+P17+P40 -> 0 | Q9: =Q10+Q17+Q40 -> 0 | R9: =L9+N9 -> 4 | S9: =M9+O9 -> 104 | T9: =T10+T17+T40 -> 1 | U9: =U17+U40 -> #DIV/0! | V9: =V17+V40 -> #DIV/0! | W9: =K9/K9 -> 1 | X9: =X10+X17+X40 -> 1 | Y9: =Y17+Y40 -> #DIV/0! | Z9: =Z17+Z40 -> #DIV/0! | AA9: =S9/S9 -> 1 | AC9: 2020-2021 | AD9: =E10/K9 -> 1 | AE9: =E17/K9 -> 0 | AF9: =E40/K9 -> 0 | AG9: =G9/K9 -> 0 | AH9: =SUM(AD9:AG9) -> 1
A10: 1) Filiera teoretică, total, din care: | D10: =D11+D14 -> 4 | E10: =E11+E14 -> 112 | F10: =F11+F14 -> 0 | G10: =G11+G14 -> 0 | H10: =H11+H14 -> 0 | I10: =I11+I14 -> 0 | J10: =D10+F10 -> 4 | K10: =E10+G10 -> 112 | L10: =L11+L14 -> 4 | M10: =M11+M14 -> 104 | R10: =L10+N10 -> 4 | S10: =M10+O10 -> 104 | T10: =E10/E9 -> 1 | W10: =K10/K9 -> 1 | X10: =M10/M9 -> 1 | AA10: =S10/S9 -> 1 | AC10: 2021-2022 | AD10: =M10/S9 -> 1 | AE10: =M17/S9 -> 0 | AF10: =M40/S9 -> 0 | AG10: =O9/S9 -> 0 | AH10: =SUM(AD10:AG10) -> 1
A11: profil real, total, din care: | D11: =SUM(D12:D13) -> 3 | E11: =SUM(E12:E13) -> 84 | F11: =SUM(F12:F13) -> 0 | G11: =SUM(G12:G13) -> 0 | H11: =SUM(H12:H13) -> 0 | I11: =SUM(I12:I13) -> 0 | J11: =D11+F11 -> 3 | K11: =E11+G11 -> 84 | L11: =SUM(L12:L13) -> 3 | M11: =SUM(M12:M13) -> 78 | R11: =L11+N11 -> 3 | S11: =M11+O11 -> 78 | W11: =K11/$K$9 -> 0.75 | X11: =M11/$M$10 -> 0.75
B12: matematică-informatică | D12: ='CL a IX a INV DE MASA ZI'!D12+'CL a IX a INV SPECIAL ZI'!D10 -> 2 | E12: ='CL a IX a INV DE MASA ZI'!E12+'CL a IX a INV SPECIAL ZI'!E10 -> 56 | J12: =D12+F12 -> 2 | K12: =E12+G12 -> 56 | L12: ='CL a IX a INV DE MASA ZI'!L12+'CL a IX a INV SPECIAL ZI'!F10 -> 1 | M12: ='CL a IX a INV DE MASA ZI'!M12+'CL a IX a INV SPECIAL ZI'!G10 -> 26 | R12: =L12+N12 -> 1 | S12: =M12+O12 -> 26 | W12: =K12/$K$9 -> 0.5 | X12: =M12/$M$10 -> 0.25
B13: ştiinţe ale naturii | D13: ='CL a IX a INV DE MASA ZI'!D13+'CL a IX a INV SPECIAL ZI'!D11 -> 1 | E13: ='CL a IX a INV DE MASA ZI'!E13+'CL a IX a INV SPECIAL ZI'!E11 -> 28 | J13: =D13+F13 -> 1 | K13: =E13+G13 -> 28 | L13: ='CL a IX a INV DE MASA ZI'!L13+'CL a IX a INV SPECIAL ZI'!F11 -> 2 | M13: ='CL a IX a INV DE MASA ZI'!M13+'CL a IX a INV SPECIAL ZI'!G11 -> 52 | R13: =L13+N13 -> 2 | S13: =M13+O13 -> 52 | W13: =K13/$K$9 -> 0.25 | X13: =M13/$M$10 -> 0.5
A14: profil uman, total, din care: | D14: =SUM(D15:D16) -> 1 | E14: =SUM(E15:E16) -> 28 | F14: =SUM(F15:F16) -> 0 | G14: =SUM(G15:G16) -> 0 | H14: =SUM(H15:H16) -> 0 | I14: =SUM(I15:I16) -> 0 | J14: =D14+F14 -> 1 | K14: =E14+G14 -> 28 | L14: =SUM(L15:L16) -> 1 | M14: =SUM(M15:M16) -> 26 | R14: =L14+N14 -> 1 | S14: =M14+O14 -> 26 | W14: =K14/$K$9 -> 0.25 | X14: =M14/$M$10 -> 0.25
B15: filologie | D15: ='CL a IX a INV DE MASA ZI'!D15+'CL a IX a INV SPECIAL ZI'!D13 -> 1 | E15: ='CL a IX a INV DE MASA ZI'!E15+'CL a IX a INV SPECIAL ZI'!E13 -> 28 | J15: =D15+F15 -> 1 | K15: =E15+G15 -> 28 | L15: ='CL a IX a INV DE MASA ZI'!L15+'CL a IX a INV SPECIAL ZI'!F13 -> 1 | M15: ='CL a IX a INV DE MASA ZI'!M15+'CL a IX a INV SPECIAL ZI'!G13 -> 26 | R15: =L15+N15 -> 1 | S15: =M15+O15 -> 26 | W15: =K15/$K$9 -> 0.25 | X15: =M15/$M$10 -> 0.25
B16: ştiinţe sociale | D16: ='CL a IX a INV DE MASA ZI'!D16+'CL a IX a INV SPECIAL ZI'!D14 -> 0 | E16: ='CL a IX a INV DE MASA ZI'!E16+'CL a IX a INV SPECIAL ZI'!E14 -> 0 | J16: =D16+F16 -> 0 | K16: =E16+G16 -> 0 | L16: ='CL a IX a INV DE MASA ZI'!L16+'CL a IX a INV SPECIAL ZI'!F14 -> 0 | M16: ='CL a IX a INV DE MASA ZI'!M16+'CL a IX a INV SPECIAL ZI'!G14 -> 0 | R16: =L16+N16 -> 0 | S16: =M16+O16 -> 0 | W16: =K16/$K$9 -> 0 | X16: =M16/$M$10 -> 0
A17: 2) Filiera tehnologică, total, din care: | D17: =D18+D30+D35 -> 0 | E17: =E18+E30+E35 -> 0 | F17: =F18+F30+F35 -> 0 | G17: =G18+G30+G35 -> 0 | H17: =H18+H30+H35 -> 0 | I17: =I18+I30+I35 -> 0 | J17: =D17+F17 -> 0 | K17: =E17+G17 -> 0 | L17: =L18+L30+L35 -> 0 | M17: =M18+M30+M35 -> 0 | N17: =N18+N30+N35 -> 0 | O17: =O18+O30+O35 -> 0 | P17: =P18+P30+P35 -> 0 | Q17: =Q18+Q30+Q35 -> 0 | R17: =L17+N17 -> 0 | S17: =M17+O17 -> 0 | T17: =E17/E9 -> 0 | U17: =G17/G9 -> #DIV/0! | V17: =I17/$I$9 -> #DIV/0! | W17: =K17/K9 -> 0 | X17: =M17/M9 -> 0 | Y17: =O17/O9 -> #DIV/0! | Z17: =Q17/$Q$9 -> #DIV/0! | AA17: =S17/S9 -> 0
A18: profil tehnic, total, din care: | D18: =SUM(D19:D29) -> 0 | E18: =SUM(E19:E29) -> 0 | F18: =SUM(F19:F29) -> 0 | G18: =SUM(G19:G29) -> 0 | H18: =SUM(H19:H29) -> 0 | I18: =SUM(I19:I29) -> 0 | J18: =D18+F18 -> 0 | K18: =E18+G18 -> 0 | L18: =SUM(L19:L29) -> 0 | M18: =SUM(M19:M29) -> 0 | N18: =SUM(N19:N29) -> 0 | O18: =SUM(O19:O29) -> 0 | P18: =SUM(P19:P29) -> 0 | Q18: =SUM(Q19:Q29) -> 0 | R18: =L18+N18 -> 0 | S18: =M18+O18 -> 0 | T18: =E18/E17 -> #DIV/0! | U18: =G18/$G$9 -> #DIV/0! | V18: =I18/$I$9 -> #DIV/0! | W18: =K18/K17 -> #DIV/0! | X18: =M18/M17 -> #DIV/0! | Y18: =O18/O17 -> #DIV/0! | Z18: =Q18/$Q$9 -> #DIV/0! | AA18: =S18/$S$17 -> #DIV/0!
C19: Materiale de construcţii | D19: ='CL a IX a INV DE MASA ZI'!D19+'CL a IX a INV SPECIAL ZI'!D17 -> 0 | E19: ='CL a IX a INV DE MASA ZI'!E19+'CL a IX a INV SPECIAL ZI'!E17 -> 0 | F19: ='CL a IX a INV DE MASA ZI'!F19+'INV PROFESIONAL SPECIAL'!B10 -> 0 | G19: ='CL a IX a INV DE MASA ZI'!G19+'INV PROFESIONAL SPECIAL'!C10 -> 0 | H19: ='CL a IX a INV DE MASA ZI'!H19+'INV PROFESIONAL SPECIAL'!D10 -> 0 | I19: ='CL a IX a INV DE MASA ZI'!I19+'INV PROFESIONAL SPECIAL'!E10 -> 0 | J19: =D19+F19 -> 0 | K19: =E19+G19 -> 0 | L19: ='CL a IX a INV DE MASA ZI'!L19+'CL a IX a INV SPECIAL ZI'!F17 -> 0 | M19: ='CL a IX a INV DE MASA ZI'!M19+'CL a IX a INV SPECIAL ZI'!G17 -> 0 | N19: ='CL a IX a INV DE MASA ZI'!N19+'INV PROFESIONAL SPECIAL'!F10 -> 0 | O19: ='CL a IX a INV DE MASA ZI'!O19+'INV PROFESIONAL SPECIAL'!G10 -> 0 | P19: ='CL a IX a INV DE MASA ZI'!P19+'INV PROFESIONAL SPECIAL'!H10 -> 0 | Q19: ='CL a IX a INV DE MASA ZI'!Q19+'INV PROFESIONAL SPECIAL'!I10 -> 0 | R19: =L19+N19 -> 0 | S19: =M19+O19 -> 0 | T19: =E19/$E$17 -> #DIV/0! | U19: =G19/$G$9 -> #DIV/0! | V19: =I19/$I$9 -> #DIV/0! | W19: =K19/$K$17 -> #DIV/0! | X19: =M19/$M$17 -> #DIV/0! | Y19: =O19/$O$17 -> #DIV/0! | Z19: =Q19/$Q$9 -> #DIV/0! | AA19: =S19/$S$17 -> #DIV/0!
C20: Industrie textilă şi pielărie | D20: ='CL a IX a INV DE MASA ZI'!D20+'CL a IX a INV SPECIAL ZI'!D18 -> 0 | E20: ='CL a IX a INV DE MASA ZI'!E20+'CL a IX a INV SPECIAL ZI'!E18 -> 0 | F20: ='CL a IX a INV DE MASA ZI'!F20+'INV PROFESIONAL SPECIAL'!B11 -> 0 | G20: ='CL a IX a INV DE MASA ZI'!G20+'INV PROFESIONAL SPECIAL'!C11 -> 0 | H20: ='CL a IX a INV DE MASA ZI'!H20+'INV PROFESIONAL SPECIAL'!D11 -> 0 | I20: ='CL a IX a INV DE MASA ZI'!I20+'INV PROFESIONAL SPECIAL'!E11 -> 0 | J20: =D20+F20 -> 0 | K20: =E20+G20 -> 0 | L20: ='CL a IX a INV DE MASA ZI'!L20+'CL a IX a INV SPECIAL ZI'!F18 -> 0 | M20: ='CL a IX a INV DE MASA ZI'!M20+'CL a IX a INV SPECIAL ZI'!G18 -> 0 | N20: ='CL a IX a INV DE MASA ZI'!N20+'INV PROFESIONAL SPECIAL'!F11 -> 0 | O20: ='CL a IX a INV DE MASA ZI'!O20+'INV PROFESIONAL SPECIAL'!G11 -> 0 | P20: ='CL a IX a INV DE MASA ZI'!P20+'INV PROFESIONAL SPECIAL'!H11 -> 0 | Q20: ='CL a IX a INV DE MASA ZI'!Q20+'INV PROFESIONAL SPECIAL'!I11 -> 0 | R20: =L20+N20 -> 0 | S20: =M20+O20 -> 0 | T20: =E20/$E$17 -> #DIV/0! | U20: =G20/$G$9 -> #DIV/0! | V20: =I20/$I$9 -> #DIV/0! | W20: =K20/$K$17 -> #DIV/0! | X20: =M20/$M$17 -> #DIV/0! | Y20: =O20/$O$17 -> #DIV/0! | Z20: =Q20/$Q$9 -> #DIV/0! | AA20: =S20/$S$17 -> #DIV/0!
C21: Construcţii, instalaţii şi lucrări publice | D21: ='CL a IX a INV DE MASA ZI'!D21+'CL a IX a INV SPECIAL ZI'!D19 -> 0 | E21: ='CL a IX a INV DE MASA ZI'!E21+'CL a IX a INV SPECIAL ZI'!E19 -> 0 | F21: ='CL a IX a INV DE MASA ZI'!F21+'INV PROFESIONAL SPECIAL'!B12 -> 0 | G21: ='CL a IX a INV DE MASA ZI'!G21+'INV PROFESIONAL SPECIAL'!C12 -> 0 | H21: ='CL a IX a INV DE MASA ZI'!H21+'INV PROFESIONAL SPECIAL'!D12 -> 0 | I21: ='CL a IX a INV DE MASA ZI'!I21+'INV PROFESIONAL SPECIAL'!E12 -> 0 | J21: =D21+F21 -> 0 | K21: =E21+G21 -> 0 | L21: ='CL a IX a INV DE MASA ZI'!L21+'CL a IX a INV SPECIAL ZI'!F19 -> 0 | M21: ='CL a IX a INV DE MASA ZI'!M21+'CL a IX a INV SPECIAL ZI'!G19 -> 0 | N21: ='CL a IX a INV DE MASA ZI'!N21+'INV PROFESIONAL SPECIAL'!F12 -> 0 | O21: ='CL a IX a INV DE MASA ZI'!O21+'INV PROFESIONAL SPECIAL'!G12 -> 0 | P21: ='CL a IX a INV DE MASA ZI'!P21+'INV PROFESIONAL SPECIAL'!H12 -> 0 | Q21: ='CL a IX a INV DE MASA ZI'!Q21+'INV PROFESIONAL SPECIAL'!I12 -> 0 | R21: =L21+N21 -> 0 | S21: =M21+O21 -> 0 | T21: =E21/$E$17 -> #DIV/0! | U21: =G21/$G$9 -> #DIV/0! | V21: =I21/$I$9 -> #DIV/0! | W21: =K21/$K$17 -> #DIV/0! | X21: =M21/$M$17 -> #DIV/0! | Y21: =O21/$O$17 -> #DIV/0! | Z21: =Q21/$Q$9 -> #DIV/0! | AA21: =S21/$S$17 -> #DIV/0!
C22: Electronică automatizări | D22: ='CL a IX a INV DE MASA ZI'!D22+'CL a IX a INV SPECIAL ZI'!D20 -> 0 | E22: ='CL a IX a INV DE MASA ZI'!E22+'CL a IX a INV SPECIAL ZI'!E20 -> 0 | F22: ='CL a IX a INV DE MASA ZI'!F22+'INV PROFESIONAL SPECIAL'!B13 -> 0 | G22: ='CL a IX a INV DE MASA ZI'!G22+'INV PROFESIONAL SPECIAL'!C13 -> 0 | H22: ='CL a IX a INV DE MASA ZI'!H22+'INV PROFESIONAL SPECIAL'!D13 -> 0 | I22: ='CL a IX a INV DE MASA ZI'!I22+'INV PROFESIONAL SPECIAL'!E13 -> 0 | J22: =D22+F22 -> 0 | K22: =E22+G22 -> 0 | L22: ='CL a IX a INV DE MASA ZI'!L22+'CL a IX a INV SPECIAL ZI'!F20 -> 0 | M22: ='CL a IX a INV DE MASA ZI'!M22+'CL a IX a INV SPECIAL ZI'!G20 -> 0 | N22: ='CL a IX a INV DE MASA ZI'!N22+'INV PROFESIONAL SPECIAL'!F13 -> 0 | O22: ='CL a IX a INV DE MASA ZI'!O22+'INV PROFESIONAL SPECIAL'!G13 -> 0 | P22: ='CL a IX a INV DE MASA ZI'!P22+'INV PROFESIONAL SPECIAL'!H13 -> 0 | Q22: ='CL a IX a INV DE MASA ZI'!Q22+'INV PROFESIONAL SPECIAL'!I13 -> 0 | R22: =L22+N22 -> 0 | S22: =M22+O22 -> 0 | T22: =E22/$E$17 -> #DIV/0! | U22: =G22/$G$9 -> #DIV/0! | V22: =I22/$I$9 -> #DIV/0! | W22: =K22/$K$17 -> #DIV/0! | X22: =M22/$M$17 -> #DIV/0! | Y22: =O22/$O$17 -> #DIV/0! | Z22: =Q22/$Q$9 -> #DIV/0! | AA22: =S22/$S$17 -> #DIV/0!
C23: Fabricarea produselor din lemn | D23: ='CL a IX a INV DE MASA ZI'!D23+'CL a IX a INV SPECIAL ZI'!D21 -> 0 | E23: ='CL a IX a INV DE MASA ZI'!E23+'CL a IX a INV SPECIAL ZI'!E21 -> 0 | F23: ='CL a IX a INV DE MASA ZI'!F23+'INV PROFESIONAL SPECIAL'!B14 -> 0 | G23: ='CL a IX a INV DE MASA ZI'!G23+'INV PROFESIONAL SPECIAL'!C14 -> 0 | H23: ='CL a IX a INV DE MASA ZI'!H23+'INV PROFESIONAL SPECIAL'!D14 -> 0 | I23: ='CL a IX a INV DE MASA ZI'!I23+'INV PROFESIONAL SPECIAL'!E14 -> 0 | J23: =D23+F23 -> 0 | K23: =E23+G23 -> 0 | L23: ='CL a IX a INV DE MASA ZI'!L23+'CL a IX a INV SPECIAL ZI'!F21 -> 0 | M23: ='CL a IX a INV DE MASA ZI'!M23+'CL a IX a INV SPECIAL ZI'!G21 -> 0 | N23: ='CL a IX a INV DE MASA ZI'!N23+'INV PROFESIONAL SPECIAL'!F14 -> 0 | O23: ='CL a IX a INV DE MASA ZI'!O23+'INV PROFESIONAL SPECIAL'!G14 -> 0 | P23: ='CL a IX a INV DE MASA ZI'!P23+'INV PROFESIONAL SPECIAL'!H14 -> 0 | Q23: ='CL a IX a INV DE MASA ZI'!Q23+'INV PROFESIONAL SPECIAL'!I14 -> 0 | R23: =L23+N23 -> 0 | S23: =M23+O23 -> 0 | T23: =E23/$E$17 -> #DIV/0! | U23: =G23/$G$9 -> #DIV/0! | V23: =I23/$I$9 -> #DIV/0! | W23: =K23/$K$17 -> #DIV/0! | X23: =M23/$M$17 -> #DIV/0! | Y23: =O23/$O$17 -> #DIV/0! | Z23: =Q23/$Q$9 -> #DIV/0! | AA23: =S23/$S$17 -> #DIV/0!
C24: Mecanică | D24: ='CL a IX a INV DE MASA ZI'!D24+'CL a IX a INV SPECIAL ZI'!D22 -> 0 | E24: ='CL a IX a INV DE MASA ZI'!E24+'CL a IX a INV SPECIAL ZI'!E22 -> 0 | F24: ='CL a IX a INV DE MASA ZI'!F24+'INV PROFESIONAL SPECIAL'!B15 -> 0 | G24: ='CL a IX a INV DE MASA ZI'!G24+'INV PROFESIONAL SPECIAL'!C15 -> 0 | H24: ='CL a IX a INV DE MASA ZI'!H24+'INV PROFESIONAL SPECIAL'!D15 -> 0 | I24: ='CL a IX a INV DE MASA ZI'!I24+'INV PROFESIONAL SPECIAL'!E15 -> 0 | J24: =D24+F24 -> 0 | K24: =E24+G24 -> 0 | L24: ='CL a IX a INV DE MASA ZI'!L24+'CL a IX a INV SPECIAL ZI'!F22 -> 0 | M24: ='CL a IX a INV DE MASA ZI'!M24+'CL a IX a INV SPECIAL ZI'!G22 -> 0 | N24: ='CL a IX a INV DE MASA ZI'!N24+'INV PROFESIONAL SPECIAL'!F15 -> 0 | O24: ='CL a IX a INV DE MASA ZI'!O24+'INV PROFESIONAL SPECIAL'!G15 -> 0 | P24: ='CL a IX a INV DE MASA ZI'!P24+'INV PROFESIONAL SPECIAL'!H15 -> 0 | Q24: ='CL a IX a INV DE MASA ZI'!Q24+'INV PROFESIONAL SPECIAL'!I15 -> 0 | R24: =L24+N24 -> 0 | S24: =M24+O24 -> 0 | T24: =E24/$E$17 -> #DIV/0! | U24: =G24/$G$9 -> #DIV/0! | V24: =I24/$I$9 -> #DIV/0! | W24: =K24/$K$17 -> #DIV/0! | X24: =M24/$M$17 -> #DIV/0! | Y24: =O24/$O$17 -> #DIV/0! | Z24: =Q24/$Q$9 -> #DIV/0! | AA24: =S24/$S$17 -> #DIV/0!
C25: Electric | D25: ='CL a IX a INV DE MASA ZI'!D25+'CL a IX a INV SPECIAL ZI'!D23 -> 0 | E25: ='CL a IX a INV DE MASA ZI'!E25+'CL a IX a INV SPECIAL ZI'!E23 -> 0 | F25: ='CL a IX a INV DE MASA ZI'!F25+'INV PROFESIONAL SPECIAL'!B16 -> 0 | G25: ='CL a IX a INV DE MASA ZI'!G25+'INV PROFESIONAL SPECIAL'!C16 -> 0 | H25: ='CL a IX a INV DE MASA ZI'!H25+'INV PROFESIONAL SPECIAL'!D16 -> 0 | I25: ='CL a IX a INV DE MASA ZI'!I25+'INV PROFESIONAL SPECIAL'!E16 -> 0 | J25: =D25+F25 -> 0 | K25: =E25+G25 -> 0 | L25: ='CL a IX a INV DE MASA ZI'!L25+'CL a IX a INV SPECIAL ZI'!F23 -> 0 | M25: ='CL a IX a INV DE MASA ZI'!M25+'CL a IX a INV SPECIAL ZI'!G23 -> 0 | N25: ='CL a IX a INV DE MASA ZI'!N25+'INV PROFESIONAL SPECIAL'!F16 -> 0 | O25: ='CL a IX a INV DE MASA ZI'!O25+'INV PROFESIONAL SPECIAL'!G16 -> 0 | P25: ='CL a IX a INV DE MASA ZI'!P25+'INV PROFESIONAL SPECIAL'!H16 -> 0 | Q25: ='CL a IX a INV DE MASA ZI'!Q25+'INV PROFESIONAL SPECIAL'!I16 -> 0 | R25: =L25+N25 -> 0 | S25: =M25+O25 -> 0 | T25: =E25/$E$17 -> #DIV/0! | U25: =G25/$G$9 -> #DIV/0! | V25: =I25/$I$9 -> #DIV/0! | W25: =K25/$K$17 -> #DIV/0! | X25: =M25/$M$17 -> #DIV/0! | Y25: =O25/$O$17 -> #DIV/0! | Z25: =Q25/$Q$9 -> #DIV/0! | AA25: =S25/$S$17 -> #DIV/0!
C26: Tehnici poligrafice | D26: ='CL a IX a INV DE MASA ZI'!D26+'CL a IX a INV SPECIAL ZI'!D24 -> 0 | E26: ='CL a IX a INV DE MASA ZI'!E26+'CL a IX a INV SPECIAL ZI'!E24 -> 0 | F26: ='CL a IX a INV DE MASA ZI'!F26+'INV PROFESIONAL SPECIAL'!B17 -> 0 | G26: ='CL a IX a INV DE MASA ZI'!G26+'INV PROFESIONAL SPECIAL'!C17 -> 0 | H26: ='CL a IX a INV DE MASA ZI'!H26+'INV PROFESIONAL SPECIAL'!D17 -> 0 | I26: ='CL a IX a INV DE MASA ZI'!I26+'INV PROFESIONAL SPECIAL'!E17 -> 0 | J26: =D26+F26 -> 0 | K26: =E26+G26 -> 0 | L26: ='CL a IX a INV DE MASA ZI'!L26+'CL a IX a INV SPECIAL ZI'!F24 -> 0 | M26: ='CL a IX a INV DE MASA ZI'!M26+'CL a IX a INV SPECIAL ZI'!G24 -> 0 | N26: ='CL a IX a INV DE MASA ZI'!N26+'INV PROFESIONAL SPECIAL'!F17 -> 0 | O26: ='CL a IX a INV DE MASA ZI'!O26+'INV PROFESIONAL SPECIAL'!G17 -> 0 | P26: ='CL a IX a INV DE MASA ZI'!P26+'INV PROFESIONAL SPECIAL'!H17 -> 0 | Q26: ='CL a IX a INV DE MASA ZI'!Q26+'INV PROFESIONAL SPECIAL'!I17 -> 0 | R26: =L26+N26 -> 0 | S26: =M26+O26 -> 0 | T26: =E26/$E$17 -> #DIV/0! | U26: =G26/$G$9 -> #DIV/0! | V26: =I26/$I$9 -> #DIV/0! | W26: =K26/$K$17 -> #DIV/0! | X26: =M26/$M$17 -> #DIV/0! | Y26: =O26/$O$17 -> #DIV/0! | Z26: =Q26/$Q$9 -> #DIV/0! | AA26: =S26/$S$17 -> #DIV/0!
C27: Chimie industrială | D27: ='CL a IX a INV DE MASA ZI'!D27+'CL a IX a INV SPECIAL ZI'!D25 -> 0 | E27: ='CL a IX a INV DE MASA ZI'!E27+'CL a IX a INV SPECIAL ZI'!E25 -> 0 | F27: ='CL a IX a INV DE MASA ZI'!F27+'INV PROFESIONAL SPECIAL'!B18 -> 0 | G27: ='CL a IX a INV DE MASA ZI'!G27+'INV PROFESIONAL SPECIAL'!C18 -> 0 | H27: ='CL a IX a INV DE MASA ZI'!H27+'INV PROFESIONAL SPECIAL'!D18 -> 0 | I27: ='CL a IX a INV DE MASA ZI'!I27+'INV PROFESIONAL SPECIAL'!E18 -> 0 | J27: =D27+F27 -> 0 | K27: =E27+G27 -> 0 | L27: ='CL a IX a INV DE MASA ZI'!L27+'CL a IX a INV SPECIAL ZI'!F25 -> 0 | M27: ='CL a IX a INV DE MASA ZI'!M27+'CL a IX a INV SPECIAL ZI'!G25 -> 0 | N27: ='CL a IX a INV DE MASA ZI'!N27+'INV PROFESIONAL SPECIAL'!F18 -> 0 | O27: ='CL a IX a INV DE MASA ZI'!O27+'INV PROFESIONAL SPECIAL'!G18 -> 0 | P27: ='CL a IX a INV DE MASA ZI'!P27+'INV PROFESIONAL SPECIAL'!H18 -> 0 | Q27: ='CL a IX a INV DE MASA ZI'!Q27+'INV PROFESIONAL SPECIAL'!I18 -> 0 | R27: =L27+N27 -> 0 | S27: =M27+O27 -> 0 | T27: =E27/$E$17 -> #DIV/0! | U27: =G27/$G$9 -> #DIV/0! | V27: =I27/$I$9 -> #DIV/0! | W27: =K27/$K$17 -> #DIV/0! | X27: =M27/$M$17 -> #DIV/0! | Y27: =O27/$O$17 -> #DIV/0! | Z27: =Q27/$Q$9 -> #DIV/0! | AA27: =S27/$S$17 -> #DIV/0!
C28: Producţie media | D28: ='CL a IX a INV DE MASA ZI'!D28+'CL a IX a INV SPECIAL ZI'!D26 -> 0 | E28: ='CL a IX a INV DE MASA ZI'!E28+'CL a IX a INV SPECIAL ZI'!E26 -> 0 | F28: ='CL a IX a INV DE MASA ZI'!F28+'INV PROFESIONAL SPECIAL'!B19 -> 0 | G28: ='CL a IX a INV DE MASA ZI'!G28+'INV PROFESIONAL SPECIAL'!C19 -> 0 | H28: ='CL a IX a INV DE MASA ZI'!H28+'INV PROFESIONAL SPECIAL'!D19 -> 0 | I28: ='CL a IX a INV DE MASA ZI'!I28+'INV PROFESIONAL SPECIAL'!E19 -> 0 | J28: =D28+F28 -> 0 | K28: =E28+G28 -> 0 | L28: ='CL a IX a INV DE MASA ZI'!L28+'CL a IX a INV SPECIAL ZI'!F26 -> 0 | M28: ='CL a IX a INV DE MASA ZI'!M28+'CL a IX a INV SPECIAL ZI'!G26 -> 0 | N28: ='CL a IX a INV DE MASA ZI'!N28+'INV PROFESIONAL SPECIAL'!F19 -> 0 | O28: ='CL a IX a INV DE MASA ZI'!O28+'INV PROFESIONAL SPECIAL'!G19 -> 0 | P28: ='CL a IX a INV DE MASA ZI'!P28+'INV PROFESIONAL SPECIAL'!H19 -> 0 | Q28: ='CL a IX a INV DE MASA ZI'!Q28+'INV PROFESIONAL SPECIAL'!I19 -> 0 | R28: =L28+N28 -> 0 | S28: =M28+O28 -> 0 | T28: =E28/$E$17 -> #DIV/0! | U28: =G28/$G$9 -> #DIV/0! | V28: =I28/$I$9 -> #DIV/0! | W28: =K28/$K$17 -> #DIV/0! | X28: =M28/$M$17 -> #DIV/0! | Y28: =O28/$O$17 -> #DIV/0! | Z28: =Q28/$Q$9 -> #DIV/0! | AA28: =S28/$S$17 -> #DIV/0!
C29: Electromecanică | D29: ='CL a IX a INV DE MASA ZI'!D29+'CL a IX a INV SPECIAL ZI'!D27 -> 0 | E29: ='CL a IX a INV DE MASA ZI'!E29+'CL a IX a INV SPECIAL ZI'!E27 -> 0 | F29: ='CL a IX a INV DE MASA ZI'!F29+'INV PROFESIONAL SPECIAL'!B20 -> 0 | G29: ='CL a IX a INV DE MASA ZI'!G29+'INV PROFESIONAL SPECIAL'!C20 -> 0 | H29: ='CL a IX a INV DE MASA ZI'!H29+'INV PROFESIONAL SPECIAL'!D20 -> 0 | I29: ='CL a IX a INV DE MASA ZI'!I29+'INV PROFESIONAL SPECIAL'!E20 -> 0 | J29: =D29+F29 -> 0 | K29: =E29+G29 -> 0 | L29: ='CL a IX a INV DE MASA ZI'!L29+'CL a IX a INV SPECIAL ZI'!F27 -> 0 | M29: ='CL a IX a INV DE MASA ZI'!M29+'CL a IX a INV SPECIAL ZI'!G27 -> 0 | N29: ='CL a IX a INV DE MASA ZI'!N29+'INV PROFESIONAL SPECIAL'!F20 -> 0 | O29: ='CL a IX a INV DE MASA ZI'!O29+'INV PROFESIONAL SPECIAL'!G20 -> 0 | P29: ='CL a IX a INV DE MASA ZI'!P29+'INV PROFESIONAL SPECIAL'!H20 -> 0 | Q29: ='CL a IX a INV DE MASA ZI'!Q29+'INV PROFESIONAL SPECIAL'!I20 -> 0 | R29: =L29+N29 -> 0 | S29: =M29+O29 -> 0 | T29: =E29/$E$17 -> #DIV/0! | U29: =G29/$G$9 -> #DIV/0! | V29: =I29/$I$9 -> #DIV/0! | W29: =K29/$K$17 -> #DIV/0! | X29: =M29/$M$17 -> #DIV/0! | Y29: =O29/$O$17 -> #DIV/0! | Z29: =Q29/$Q$9 -> #DIV/0! | AA29: =S29/$S$17 -> #DIV/0!
A30: profil servicii, total, din care: | D30: =SUM(D31:D34) -> 0 | E30: =SUM(E31:E34) -> 0 | F30: =SUM(F31:F34) -> 0 | G30: =SUM(G31:G34) -> 0 | H30: =SUM(H31:H34) -> 0 | I30: =SUM(I31:I34) -> 0 | J30: =D30+F30 -> 0 | K30: =E30+G30 -> 0 | L30: =SUM(L31:L34) -> 0 | M30: =SUM(M31:M34) -> 0 | N30: =SUM(N31:N34) -> 0 | O30: =SUM(O31:O34) -> 0 | P30: =SUM(P31:P34) -> 0 | Q30: =SUM(Q31:Q34) -> 0 | R30: =L30+N30 -> 0 | S30: =M30+O30 -> 0 | T30: =E30/$E$17 -> #DIV/0! | U30: =G30/$G$9 -> #DIV/0! | V30: =I30/$I$9 -> #DIV/0! | W30: =K30/$K$17 -> #DIV/0! | X30: =M30/$M$17 -> #DIV/0! | Y30: =O30/$O$17 -> #DIV/0! | Z30: =Q30/$Q$9 -> #DIV/0! | AA30: =S30/$S$17 -> #DIV/0!
C31: Estetica şi igiena corpului omenesc | D31: ='CL a IX a INV DE MASA ZI'!D31+'CL a IX a INV SPECIAL ZI'!D29 -> 0 | E31: ='CL a IX a INV DE MASA ZI'!E31+'CL a IX a INV SPECIAL ZI'!E29 -> 0 | F31: ='CL a IX a INV DE MASA ZI'!F31+'INV PROFESIONAL SPECIAL'!B21 -> 0 | G31: ='CL a IX a INV DE MASA ZI'!G31+'INV PROFESIONAL SPECIAL'!C21 -> 0 | H31: ='CL a IX a INV DE MASA ZI'!H31+'INV PROFESIONAL SPECIAL'!D21 -> 0 | I31: ='CL a IX a INV DE MASA ZI'!I31+'INV PROFESIONAL SPECIAL'!E21 -> 0 | J31: =D31+F31 -> 0 | K31: =E31+G31 -> 0 | L31: ='CL a IX a INV DE MASA ZI'!L31+'CL a IX a INV SPECIAL ZI'!F29 -> 0 | M31: ='CL a IX a INV DE MASA ZI'!M31+'CL a IX a INV SPECIAL ZI'!G29 -> 0 | N31: ='CL a IX a INV DE MASA ZI'!N31+'INV PROFESIONAL SPECIAL'!F21 -> 0 | O31: ='CL a IX a INV DE MASA ZI'!O31+'INV PROFESIONAL SPECIAL'!G21 -> 0 | P31: ='CL a IX a INV DE MASA ZI'!P31+'INV PROFESIONAL SPECIAL'!H21 -> 0 | Q31: ='CL a IX a INV DE MASA ZI'!Q31+'INV PROFESIONAL SPECIAL'!I21 -> 0 | R31: =L31+N31 -> 0 | S31: =M31+O31 -> 0 | T31: =E31/$E$17 -> #DIV/0! | U31: =G31/$G$9 -> #DIV/0! | V31: =I31/$I$9 -> #DIV/0! | W31: =K31/$K$17 -> #DIV/0! | X31: =M31/$M$17 -> #DIV/0! | Y31: =O31/$O$17 -> #DIV/0! | Z31: =Q31/$Q$9 -> #DIV/0! | AA31: =S31/$S$17 -> #DIV/0!
C32: Turism şi alimentaţie | D32: ='CL a IX a INV DE MASA ZI'!D32+'CL a IX a INV SPECIAL ZI'!D30 -> 0 | E32: ='CL a IX a INV DE MASA ZI'!E32+'CL a IX a INV SPECIAL ZI'!E30 -> 0 | F32: ='CL a IX a INV DE MASA ZI'!F32+'INV PROFESIONAL SPECIAL'!B22 -> 0 | G32: ='CL a IX a INV DE MASA ZI'!G32+'INV PROFESIONAL SPECIAL'!C22 -> 0 | H32: ='CL a IX a INV DE MASA ZI'!H32+'INV PROFESIONAL SPECIAL'!D22 -> 0 | I32: ='CL a IX a INV DE MASA ZI'!I32+'INV PROFESIONAL SPECIAL'!E22 -> 0 | J32: =D32+F32 -> 0 | K32: =E32+G32 -> 0 | L32: ='CL a IX a INV DE MASA ZI'!L32+'CL a IX a INV SPECIAL ZI'!F30 -> 0 | M32: ='CL a IX a INV DE MASA ZI'!M32+'CL a IX a INV SPECIAL ZI'!G30 -> 0 | N32: ='CL a IX a INV DE MASA ZI'!N32+'INV PROFESIONAL SPECIAL'!F22 -> 0 | O32: ='CL a IX a INV DE MASA ZI'!O32+'INV PROFESIONAL SPECIAL'!G22 -> 0 | P32: ='CL a IX a INV DE MASA ZI'!P32+'INV PROFESIONAL SPECIAL'!H22 -> 0 | Q32: ='CL a IX a INV DE MASA ZI'!Q32+'INV PROFESIONAL SPECIAL'!I22 -> 0 | R32: =L32+N32 -> 0 | S32: =M32+O32 -> 0 | T32: =E32/$E$17 -> #DIV/0! | U32: =G32/$G$9 -> #DIV/0! | V32: =I32/$I$9 -> #DIV/0! | W32: =K32/$K$17 -> #DIV/0! | X32: =M32/$M$17 -> #DIV/0! | Y32: =O32/$O$17 -> #DIV/0! | Z32: =Q32/$Q$9 -> #DIV/0! | AA32: =S32/$S$17 -> #DIV/0!
C33: Comerţ | D33: ='CL a IX a INV DE MASA ZI'!D33+'CL a IX a INV SPECIAL ZI'!D31 -> 0 | E33: ='CL a IX a INV DE MASA ZI'!E33+'CL a IX a INV SPECIAL ZI'!E31 -> 0 | F33: ='CL a IX a INV DE MASA ZI'!F33+'INV PROFESIONAL SPECIAL'!B23 -> 0 | G33: ='CL a IX a INV DE MASA ZI'!G33+'INV PROFESIONAL SPECIAL'!C23 -> 0 | H33: ='CL a IX a INV DE MASA ZI'!H33+'INV PROFESIONAL SPECIAL'!D23 -> 0 | I33: ='CL a IX a INV DE MASA ZI'!I33+'INV PROFESIONAL SPECIAL'!E23 -> 0 | J33: =D33+F33 -> 0 | K33: =E33+G33 -> 0 | L33: ='CL a IX a INV DE MASA ZI'!L33+'CL a IX a INV SPECIAL ZI'!F31 -> 0 | M33: ='CL a IX a INV DE MASA ZI'!M33+'CL a IX a INV SPECIAL ZI'!G31 -> 0 | N33: ='CL a IX a INV DE MASA ZI'!N33+'INV PROFESIONAL SPECIAL'!F23 -> 0 | O33: ='CL a IX a INV DE MASA ZI'!O33+'INV PROFESIONAL SPECIAL'!G23 -> 0 | P33: ='CL a IX a INV DE MASA ZI'!P33+'INV PROFESIONAL SPECIAL'!H23 -> 0 | Q33: ='CL a IX a INV DE MASA ZI'!Q33+'INV PROFESIONAL SPECIAL'!I23 -> 0 | R33: =L33+N33 -> 0 | S33: =M33+O33 -> 0 | T33: =E33/$E$17 -> #DIV/0! | U33: =G33/$G$9 -> #DIV/0! | V33: =I33/$I$9 -> #DIV/0! | W33: =K33/$K$17 -> #DIV/0! | X33: =M33/$M$17 -> #DIV/0! | Y33: =O33/$O$17 -> #DIV/0! | Z33: =Q33/$Q$9 -> #DIV/0! | AA33: =S33/$S$17 -> #DIV/0!
C34: Economic | D34: ='CL a IX a INV DE MASA ZI'!D34+'CL a IX a INV SPECIAL ZI'!D32 -> 0 | E34: ='CL a IX a INV DE MASA ZI'!E34+'CL a IX a INV SPECIAL ZI'!E32 -> 0 | F34: ='CL a IX a INV DE MASA ZI'!F34+'INV PROFESIONAL SPECIAL'!B24 -> 0 | G34: ='CL a IX a INV DE MASA ZI'!G34+'INV PROFESIONAL SPECIAL'!C24 -> 0 | H34: ='CL a IX a INV DE MASA ZI'!H34+'INV PROFESIONAL SPECIAL'!D24 -> 0 | I34: ='CL a IX a INV DE MASA ZI'!I34+'INV PROFESIONAL SPECIAL'!E24 -> 0 | J34: =D34+F34 -> 0 | K34: =E34+G34 -> 0 | L34: ='CL a IX a INV DE MASA ZI'!L34+'CL a IX a INV SPECIAL ZI'!F32 -> 0 | M34: ='CL a IX a INV DE MASA ZI'!M34+'CL a IX a INV SPECIAL ZI'!G32 -> 0 | N34: ='CL a IX a INV DE MASA ZI'!N34+'INV PROFESIONAL SPECIAL'!F24 -> 0 | O34: ='CL a IX a INV DE MASA ZI'!O34+'INV PROFESIONAL SPECIAL'!G24 -> 0 | P34: ='CL a IX a INV DE MASA ZI'!P34+'INV PROFESIONAL SPECIAL'!H24 -> 0 | Q34: ='CL a IX a INV DE MASA ZI'!Q34+'INV PROFESIONAL SPECIAL'!I24 -> 0 | R34: =L34+N34 -> 0 | S34: =M34+O34 -> 0 | T34: =E34/$E$17 -> #DIV/0! | U34: =G34/$G$9 -> #DIV/0! | V34: =I34/$I$9 -> #DIV/0! | W34: =K34/$K$17 -> #DIV/0! | X34: =M34/$M$17 -> #DIV/0! | Y34: =O34/$O$17 -> #DIV/0! | Z34: =Q34/$Q$9 -> #DIV/0! | AA34: =S34/$S$17 -> #DIV/0!
A35: profil resurse naturale şi protecţia mediului, total, din care: | D35: =SUM(D36:D39) -> 0 | E35: =SUM(E36:E39) -> 0 | F35: =SUM(F36:F39) -> 0 | G35: =SUM(G36:G39) -> 0 | H35: =SUM(H36:H39) -> 0 | I35: =SUM(I36:I39) -> 0 | J35: =D35+F35 -> 0 | K35: =E35+G35 -> 0 | L35: =SUM(L36:L39) -> 0 | M35: =SUM(M36:M39) -> 0 | N35: =SUM(N36:N39) -> 0 | O35: =SUM(O36:O39) -> 0 | P35: =SUM(P36:P39) -> 0 | Q35: =SUM(Q36:Q39) -> 0 | R35: =L35+N35 -> 0 | S35: =M35+O35 -> 0 | T35: =E35/$E$17 -> #DIV/0! | U35: =G35/$G$9 -> #DIV/0! | V35: =I35/$I$9 -> #DIV/0! | W35: =K35/$K$17 -> #DIV/0! | X35: =M35/$M$17 -> #DIV/0! | Y35: =O35/$O$17 -> #DIV/0! | Z35: =Q35/$Q$9 -> #DIV/0! | AA35: =S35/$S$17 -> #DIV/0!
C36: Agricultură | D36: ='CL a IX a INV DE MASA ZI'!D36+'CL a IX a INV SPECIAL ZI'!D34 -> 0 | E36: ='CL a IX a INV DE MASA ZI'!E36+'CL a IX a INV SPECIAL ZI'!E34 -> 0 | F36: ='CL a IX a INV DE MASA ZI'!F36+'INV PROFESIONAL SPECIAL'!B25 -> 0 | G36: ='CL a IX a INV DE MASA ZI'!G36+'INV PROFESIONAL SPECIAL'!C25 -> 0 | H36: ='CL a IX a INV DE MASA ZI'!H36+'INV PROFESIONAL SPECIAL'!D25 -> 0 | I36: ='CL a IX a INV DE MASA ZI'!I36+'INV PROFESIONAL SPECIAL'!E25 -> 0 | J36: =D36+F36 -> 0 | K36: =E36+G36 -> 0 | L36: ='CL a IX a INV DE MASA ZI'!L36+'CL a IX a INV SPECIAL ZI'!F34 -> 0 | M36: ='CL a IX a INV DE MASA ZI'!M36+'CL a IX a INV SPECIAL ZI'!G34 -> 0 | N36: ='CL a IX a INV DE MASA ZI'!N36+'INV PROFESIONAL SPECIAL'!F25 -> 0 | O36: ='CL a IX a INV DE MASA ZI'!O36+'INV PROFESIONAL SPECIAL'!G25 -> 0 | P36: ='CL a IX a INV DE MASA ZI'!P36+'INV PROFESIONAL SPECIAL'!H25 -> 0 | Q36: ='CL a IX a INV DE MASA ZI'!Q36+'INV PROFESIONAL SPECIAL'!I25 -> 0 | R36: =L36+N36 -> 0 | S36: =M36+O36 -> 0 | T36: =E36/$E$17 -> #DIV/0! | U36: =G36/$G$9 -> #DIV/0! | V36: =I36/$I$9 -> #DIV/0! | W36: =K36/$K$17 -> #DIV/0! | X36: =M36/$M$17 -> #DIV/0! | Y36: =O36/$O$17 -> #DIV/0! | Z36: =Q36/$Q$9 -> #DIV/0! | AA36: =S36/$S$17 -> #DIV/0!
C37: Industrie alimentară | D37: ='CL a IX a INV DE MASA ZI'!D37+'CL a IX a INV SPECIAL ZI'!D35 -> 0 | E37: ='CL a IX a INV DE MASA ZI'!E37+'CL a IX a INV SPECIAL ZI'!E35 -> 0 | F37: ='CL a IX a INV DE MASA ZI'!F37+'INV PROFESIONAL SPECIAL'!B26 -> 0 | G37: ='CL a IX a INV DE MASA ZI'!G37+'INV PROFESIONAL SPECIAL'!C26 -> 0 | H37: ='CL a IX a INV DE MASA ZI'!H37+'INV PROFESIONAL SPECIAL'!D26 -> 0 | I37: ='CL a IX a INV DE MASA ZI'!I37+'INV PROFESIONAL SPECIAL'!E26 -> 0 | J37: =D37+F37 -> 0 | K37: =E37+G37 -> 0 | L37: ='CL a IX a INV DE MASA ZI'!L37+'CL a IX a INV SPECIAL ZI'!F35 -> 0 | M37: ='CL a IX a INV DE MASA ZI'!M37+'CL a IX a INV SPECIAL ZI'!G35 -> 0 | N37: ='CL a IX a INV DE MASA ZI'!N37+'INV PROFESIONAL SPECIAL'!F26 -> 0 | O37: ='CL a IX a INV DE MASA ZI'!O37+'INV PROFESIONAL SPECIAL'!G26 -> 0 | P37: ='CL a IX a INV DE MASA ZI'!P37+'INV PROFESIONAL SPECIAL'!H26 -> 0 | Q37: ='CL a IX a INV DE MASA ZI'!Q37+'INV PROFESIONAL SPECIAL'!I26 -> 0 | R37: =L37+N37 -> 0 | S37: =M37+O37 -> 0 | T37: =E37/$E$17 -> #DIV/0! | U37: =G37/$G$9 -> #DIV/0! | V37: =I37/$I$9 -> #DIV/0! | W37: =K37/$K$17 -> #DIV/0! | X37: =M37/$M$17 -> #DIV/0! | Y37: =O37/$O$17 -> #DIV/0! | Z37: =Q37/$Q$9 -> #DIV/0! | AA37: =S37/$S$17 -> #DIV/0!
C38: Protecţia mediului | D38: ='CL a IX a INV DE MASA ZI'!D38+'CL a IX a INV SPECIAL ZI'!D36 -> 0 | E38: ='CL a IX a INV DE MASA ZI'!E38+'CL a IX a INV SPECIAL ZI'!E36 -> 0 | F38: ='CL a IX a INV DE MASA ZI'!F38+'INV PROFESIONAL SPECIAL'!B27 -> 0 | G38: ='CL a IX a INV DE MASA ZI'!G38+'INV PROFESIONAL SPECIAL'!C27 -> 0 | H38: ='CL a IX a INV DE MASA ZI'!H38+'INV PROFESIONAL SPECIAL'!D27 -> 0 | I38: ='CL a IX a INV DE MASA ZI'!I38+'INV PROFESIONAL SPECIAL'!E27 -> 0 | J38: =D38+F38 -> 0 | K38: =E38+G38 -> 0 | L38: ='CL a IX a INV DE MASA ZI'!L38+'CL a IX a INV SPECIAL ZI'!F36 -> 0 | M38: ='CL a IX a INV DE MASA ZI'!M38+'CL a IX a INV SPECIAL ZI'!G36 -> 0 | N38: ='CL a IX a INV DE MASA ZI'!N38+'INV PROFESIONAL SPECIAL'!F27 -> 0 | O38: ='CL a IX a INV DE MASA ZI'!O38+'INV PROFESIONAL SPECIAL'!G27 -> 0 | P38: ='CL a IX a INV DE MASA ZI'!P38+'INV PROFESIONAL SPECIAL'!H27 -> 0 | Q38: ='CL a IX a INV DE MASA ZI'!Q38+'INV PROFESIONAL SPECIAL'!I27 -> 0 | R38: =L38+N38 -> 0 | S38: =M38+O38 -> 0 | T38: =E38/$E$17 -> #DIV/0! | U38: =G38/$G$9 -> #DIV/0! | V38: =I38/$I$9 -> #DIV/0! | W38: =K38/$K$17 -> #DIV/0! | X38: =M38/$M$17 -> #DIV/0! | Y38: =O38/$O$17 -> #DIV/0! | Z38: =Q38/$Q$9 -> #DIV/0! | AA38: =S38/$S$17 -> #DIV/0!
C39: Silvicultură | D39: ='CL a IX a INV DE MASA ZI'!D39+'CL a IX a INV SPECIAL ZI'!D37 -> 0 | E39: ='CL a IX a INV DE MASA ZI'!E39+'CL a IX a INV SPECIAL ZI'!E37 -> 0 | F39: ='CL a IX a INV DE MASA ZI'!F39+'INV PROFESIONAL SPECIAL'!B28 -> 0 | G39: ='CL a IX a INV DE MASA ZI'!G39+'INV PROFESIONAL SPECIAL'!C28 -> 0 | H39: ='CL a IX a INV DE MASA ZI'!H39+'INV PROFESIONAL SPECIAL'!D28 -> 0 | I39: ='CL a IX a INV DE MASA ZI'!I39+'INV PROFESIONAL SPECIAL'!E28 -> 0 | J39: =D39+F39 -> 0 | K39: =E39+G39 -> 0 | L39: ='CL a IX a INV DE MASA ZI'!L39+'CL a IX a INV SPECIAL ZI'!F37 -> 0 | M39: ='CL a IX a INV DE MASA ZI'!M39+'CL a IX a INV SPECIAL ZI'!G37 -> 0 | N39: ='CL a IX a INV DE MASA ZI'!N39+'INV PROFESIONAL SPECIAL'!F28 -> 0 | O39: ='CL a IX a INV DE MASA ZI'!O39+'INV PROFESIONAL SPECIAL'!G28 -> 0 | P39: ='CL a IX a INV DE MASA ZI'!P39+'INV PROFESIONAL SPECIAL'!H28 -> 0 | Q39: ='CL a IX a INV DE MASA ZI'!Q39+'INV PROFESIONAL SPECIAL'!I28 -> 0 | R39: =L39+N39 -> 0 | S39: =M39+O39 -> 0 | T39: =E39/$E$17 -> #DIV/0! | U39: =G39/$G$9 -> #DIV/0! | V39: =I39/$I$9 -> #DIV/0! | W39: =K39/$K$17 -> #DIV/0! | X39: =M39/$M$17 -> #DIV/0! | Y39: =O39/$O$17 -> #DIV/0! | Z39: =Q39/$Q$9 -> #DIV/0! | AA39: =S39/$S$17 -> #DIV/0!
A40: 3) Filiera vocaţională, total, din care: | D40: =SUM(D41:D48) -> 0 | E40: =SUM(E41:E48) -> 0 | F40: =SUM(F41:F48) -> 0 | G40: =SUM(G41:G48) -> 0 | H40: =SUM(H41:H48) -> 0 | I40: =SUM(I41:I48) -> 0 | J40: =D40+F40 -> 0 | K40: =E40+G40 -> 0 | L40: =SUM(L41:L48) -> 0 | M40: =SUM(M41:M48) -> 0 | N40: =SUM(N41:N48) -> 0 | O40: =SUM(O41:O48) -> 0 | P40: =SUM(P41:P48) -> 0 | Q40: =SUM(Q41:Q48) -> 0 | R40: =L40+N40 -> 0 | S40: =M40+O40 -> 0 | T40: =E40/E9 -> 0 | U40: =G40/$G$9 -> #DIV/0! | V40: =I40/$I$9 -> #DIV/0! | W40: =K40/K9 -> 0 | X40: =M40/M9 -> 0 | Y40: =O40/O9 -> #DIV/0! | Z40: =Q40/$Q$9 -> #DIV/0! | AA40: =S40/S9 -> 0
A41: Profil sportiv | D41: ='CL a IX a INV DE MASA ZI'!D41 -> 0 | E41: ='CL a IX a INV DE MASA ZI'!E41 -> 0 | J41: =D41+F41 -> 0 | K41: =E41+G41 -> 0 | L41: ='CL a IX a INV DE MASA ZI'!L41 -> 0 | M41: ='CL a IX a INV DE MASA ZI'!M41 -> 0
...

Sheet CL a IX a INV DE MASA ZI
A1: Inspectoratul Şcolar Județean Hunedoara
A3: ANALIZA PLANULUI DE ȘCOLARIZARE REALIZAT LA CLASA A IX-A ÎNVĂŢĂMÂNT DE MASĂ, DE ZI, ÎN ANUL ŞCOLAR 2021 -2022, COMPARATIV CU ANUL ŞCOLAR 2020-2021
A4: NOTĂ: Se completează numai celulele marcate cu verde. Datele pentru Existent 2020-2021 sunt cele de la începutul de anului şcolar
A5: FILIERA/PROFILUL | B5: SPECIALIZARE | C5: DOMENIUL PREGATIRII DE BAZĂ | D5: Număr de clase şi număr de elevi | T5: Ponderi
D6: EXISTENT 2020-2021 | L6: EXISTENT 2021-2022 | T6: EXISTENT 2020-2021 | X6: EXISTENT 2021-2022
D7: Clasa a IX-a, LICEU ZI | F7: Clasa a IX-a, PROFESIONAL + DUAL | H7: Clasa a IX-a, DUAL | J7: TOTAL Clasa a IX-a, LICEU ZI+ PROFESIONAL + DUAL | L7: Clasa a IX-a, LICEU ZI | N7: Clasa a IX-a, PROFESIONAL + DUAL | P7: Clasa a IX-a, DUAL | R7: TOTAL Clasa a IX-a, LICEU ZI+ PROFESIONAL + DUAL | T7: Clasa a IX-a, LICEU zi, | U7: Clasa a IX-a, PROFESIONAL ŞI DUAL | V7: Clasa a IX-a, DUAL | W7: Clasa a IX-a, zi, LICEU zi + PROFESIONAL + DUAL | X7: Clasa a IX-a, LICEU zi | Y7: Clasa a IX-a, PROFESIONAL+ DUAL | Z7: Clasa a IX-a, DUAL | AA7: Clasa a IX-a, LICEU zi + PROFESIONAL+ DUAL
D8: Nr.cl. | E8: Nr. elevi | F8: Nr.cl. | G8: Nr. elevi | H8: Nr.cl. | I8: Nr. elevi | J8: Nr.cl. | K8: Nr. elevi | L8: Nr.cl. | M8: Nr. elevi | N8: Nr.cl. | O8: Nr. elevi | P8: Nr.cl. | Q8: Nr. elevi | R8: Nr.cl. | S8: Nr. elevi | AD8: Învăţământ liceal filiera teoretică | AE8: Învăţământ liceal filiera tehnologică | AF8: Învăţământ liceal filiera vocaţională | AG8: Învăţământ profesional
A9: TOTAL CL A IX-A ZI , din care : | D9: =D10+D17+D40 -> 4 | E9: =E10+E17+E40 -> 112 | F9: =F10+F17+F40 -> 0 | G9: =G10+G17+G40 -> 0 | H9: =H10+H17+H40 -> 0 | I9: =I10+I17+I40 -> 0 | J9: =D9+F9 -> 4 | K9: =E9+G9 -> 112 | L9: =L10+L17+L40 -> 4 | M9: =M10+M17+M40 -> 104 | N9: =N10+N17+N40 -> 0 | O9: =O10+O17+O40 -> 0 | P9: =P10+P17+P40 -> 0 | Q9: =Q10+Q17+Q40 -> 0 | R9: =L9+N9 -> 4 | S9: =M9+O9 -> 104 | T9: =T10+T17+T40 -> 1 | U9: =U17+U40 -> #DIV/0! | V9: =V17+V40 -> #DIV/0! | W9: =K9/K9 -> 1 | X9: =X10+X17+X40 -> 1 | Y9: =Y17+Y40 -> #DIV/0! | Z9: =Z17+Z40 -> #DIV/0! | AA9: =S9/S9 -> 1 | AC9: 2019-2020 | AD9: =E10/K9 -> 1 | AE9: =E17/K9 -> 0 | AF9: =E40/K9 -> 0 | AG9: =G9/K9 -> 0 | AH9: =SUM(AD9:AG9) -> 1
A10: 1) Filiera teoretică, total, din care: | D10: =D11+D14 -> 4 | E10: =E11+E14 -> 112 | F10: =F11+F14 -> 0 | G10: =G11+G14 -> 0 | H10: =H11+H14 -> 0 | I10: =I11+I14 -> 0 | J10: =D10+F10 -> 4 | K10: =E10+G10 -> 112 | L10: =L11+L14 -> 4 | M10: =M11+M14 -> 104 | R10: =L10+N10 -> 4 | S10: =M10+O10 -> 104 | T10: =E10/E9 -> 1 | W10: =K10/K9 -> 1 | X10: =M10/M9 -> 1 | AA10: =S10/S9 -> 1 | AC10: 2020-2021 | AD10: =M10/S9 -> 1 | AE10: =M17/S9 -> 0 | AF10: =M40/S9 -> 0 | AG10: =O9/S9 -> 0 | AH10: =SUM(AD10:AG10) -> 1
A11: profil real, total, din care: | D11: =SUM(D12:D13) -> 3 | E11: =SUM(E12:E13) -> 84 | F11: =SUM(F12:F13) -> 0 | G11: =SUM(G12:G13) -> 0 | H11: =SUM(H12:H13) -> 0 | I11: =SUM(I12:I13) -> 0 | J11: =D11+F11 -> 3 | K11: =E11+G11 -> 84 | L11: =SUM(L12:L13) -> 3 | M11: =SUM(M12:M13) -> 78 | R11: =L11+N11 -> 3 | S11: =M11+O11 -> 78 | W11: =K11/$K$9 -> 0.75 | X11: =M11/$M$10 -> 0.75
B12: matematică-informatică | D12: 2 | E12: 56 | J12: =D12+F12 -> 2 | K12: =E12+G12 -> 56 | L12: 1 | M12: 26 | R12: =L12+N12 -> 1 | S12: =M12+O12 -> 26 | W12: =K12/$K$9 -> 0.5 | X12: =M12/$M$10 -> 0.25
B13: ştiinţe ale naturii | D13: 1 | E13: 28 | J13: =D13+F13 -> 1 | K13: =E13+G13 -> 28 | L13: 2 | M13: 52 | R13: =L13+N13 -> 2 | S13: =M13+O13 -> 52 | W13: =K13/$K$9 -> 0.25 | X13: =M13/$M$10 -> 0.5
A14: profil uman, total, din care: | D14: =SUM(D15:D16) -> 1 | E14: =SUM(E15:E16) -> 28 | F14: =SUM(F15:F16) -> 0 | G14: =SUM(G15:G16) -> 0 | H14: =SUM(H15:H16) -> 0 | I14: =SUM(I15:I16) -> 0 | J14: =D14+F14 -> 1 | K14: =E14+G14 -> 28 | L14: =SUM(L15:L16) -> 1 | M14: =SUM(M15:M16) -> 26 | R14: =L14+N14 -> 1 | S14: =M14+O14 -> 26 | W14: =K14/$K$9 -> 0.25 | X14: =M14/$M$10 -> 0.25
B15: filologie | D15: 1 | E15: 28 | J15: =D15+F15 -> 1 | K15: =E15+G15 -> 28 | L15: 1 | M15: 26 | R15: =L15+N15 -> 1 | S15: =M15+O15 -> 26 | W15: =K15/$K$9 -> 0.25 | X15: =M15/$M$10 -> 0.25
B16: ştiinţe sociale | J16: =D16+F16 -> 0 | K16: =E16+G16 -> 0 | R16: =L16+N16 -> 0 | S16: =M16+O16 -> 0 | W16: =K16/$K$9 -> 0 | X16: =M16/$M$10 -> 0
A17: 2) Filiera tehnologică, total, din care: | D17: =D18+D30+D35 -> 0 | E17: =E18+E30+E35 -> 0 | F17: =F18+F30+F35 -> 0 | G17: =G18+G30+G35 -> 0 | H17: =H18+H30+H35 -> 0 | I17: =I18+I30+I35 -> 0 | J17: =D17+F17 -> 0 | K17: =E17+G17 -> 0 | L17: =L18+L30+L35 -> 0 | M17: =M18+M30+M35 -> 0 | N17: =N18+N30+N35 -> 0 | O17: =O18+O30+O35 -> 0 | P17: =P18+P30+P35 -> 0 | Q17: =Q18+Q30+Q35 -> 0 | R17: =L17+N17 -> 0 | S17: =M17+O17 -> 0 | T17: =E17/E9 -> 0 | U17: =G17/G9 -> #DIV/0! | V17: =I17/$I$9 -> #DIV/0! | W17: =K17/K9 -> 0 | X17: =M17/M9 -> 0 | Y17: =O17/O9 -> #DIV/0! | Z17: =Q17/$Q$9 -> #DIV/0! | AA17: =S17/S9 -> 0
A18: profil tehnic, total, din care: | D18: =SUM(D19:D29) -> 0 | E18: =SUM(E19:E29) -> 0 | F18: =SUM(F19:F29) -> 0 | G18: =SUM(G19:G29) -> 0 | H18: =SUM(H19:H29) -> 0 | I18: =SUM(I19:I29) -> 0 | J18: =D18+F18 -> 0 | K18: =E18+G18 -> 0 | L18: =SUM(L19:L29) -> 0 | M18: =SUM(M19:M29) -> 0 | N18: =SUM(N19:N29) -> 0 | O18: =SUM(O19:O29) -> 0 | P18: =SUM(P19:P29) -> 0 | Q18: =SUM(Q19:Q29) -> 0 | R18: =L18+N18 -> 0 | S18: =M18+O18 -> 0 | T18: =E18/E17 -> #DIV/0! | U18: =G18/$G$9 -> #DIV/0! | V18: =I18/$I$9 -> #DIV/0! | W18: =K18/K17 -> #DIV/0! | X18: =M18/M17 -> #DIV/0! | Y18: =O18/O17 -> #DIV/0! | Z18: =Q18/$Q$9 -> #DIV/0! | AA18: =S18/$S$17 -> #DIV/0!
C19: Materiale de construcţii | J19: =D19+F19 -> 0 | K19: =E19+G19 -> 0 | R19: =L19+N19 -> 0 | S19: =M19+O19 -> 0 | T19: =E19/$E$17 -> #DIV/0! | U19: =G19/$G$9 -> #DIV/0! | V19: =I19/$I$9 -> #DIV/0! | W19: =K19/$K$17 -> #DIV/0! | X19: =M19/$M$17 -> #DIV/0! | Y19: =O19/$O$17 -> #DIV/0! | Z19: =Q19/$Q$9 -> #DIV/0! | AA19: =S19/$S$17 -> #DIV/0!
C20: Industrie textilă şi pielărie | J20: =D20+F20 -> 0 | K20: =E20+G20 -> 0 | R20: =L20+N20 -> 0 | S20: =M20+O20 -> 0 | T20: =E20/$E$17 -> #DIV/0! | U20: =G20/$G$9 -> #DIV/0! | V20: =I20/$I$9 -> #DIV/0! | W20: =K20/$K$17 -> #DIV/0! | X20: =M20/$M$17 -> #DIV/0! | Y20: =O20/$O$17 -> #DIV/0! | Z20: =Q20/$Q$9 -> #DIV/0! | AA20: =S20/$S$17 -> #DIV/0!
C21: Construcţii, instalaţii şi lucrări publice | J21: =D21+F21 -> 0 | K21: =E21+G21 -> 0 | R21: =L21+N21 -> 0 | S21: =M21+O21 -> 0 | T21: =E21/$E$17 -> #DIV/0! | U21: =G21/$G$9 -> #DIV/0! | V21: =I21/$I$9 -> #DIV/0! | W21: =K21/$K$17 -> #DIV/0! | X21: =M21/$M$17 -> #DIV/0! | Y21: =O21/$O$17 -> #DIV/0! | Z21: =Q21/$Q$9 -> #DIV/0! | AA21: =S21/$S$17 -> #DIV/0!
C22: Electronică automatizări | J22: =D22+F22 -> 0 | K22: =E22+G22 -> 0 | R22: =L22+N22 -> 0 | S22: =M22+O22 -> 0 | T22: =E22/$E$17 -> #DIV/0! | U22: =G22/$G$9 -> #DIV/0! | V22: =I22/$I$9 -> #DIV/0! | W22: =K22/$K$17 -> #DIV/0! | X22: =M22/$M$17 -> #DIV/0! | Y22: =O22/$O$17 -> #DIV/0! | Z22: =Q22/$Q$9 -> #DIV/0! | AA22: =S22/$S$17 -> #DIV/0!
C23: Fabricarea produselor din lemn | J23: =D23+F23 -> 0 | K23: =E23+G23 -> 0 | R23: =L23+N23 -> 0 | S23: =M23+O23 -> 0 | T23: =E23/$E$17 -> #DIV/0! | U23: =G23/$G$9 -> #DIV/0! | V23: =I23/$I$9 -> #DIV/0! | W23: =K23/$K$17 -> #DIV/0! | X23: =M23/$M$17 -> #DIV/0! | Y23: =O23/$O$17 -> #DIV/0! | Z23: =Q23/$Q$9 -> #DIV/0! | AA23: =S23/$S$17 -> #DIV/0!
C24: Mecanică | J24: =D24+F24 -> 0 | K24: =E24+G24 -> 0 | R24: =L24+N24 -> 0 | S24: =M24+O24 -> 0 | T24: =E24/$E$17 -> #DIV/0! | U24: =G24/$G$9 -> #DIV/0! | V24: =I24/$I$9 -> #DIV/0! | W24: =K24/$K$17 -> #DIV/0! | X24: =M24/$M$17 -> #DIV/0! | Y24: =O24/$O$17 -> #DIV/0! | Z24: =Q24/$Q$9 -> #DIV/0! | AA24: =S24/$S$17 -> #DIV/0!
C25: Electric | J25: =D25+F25 -> 0 | K25: =E25+G25 -> 0 | R25: =L25+N25 -> 0 | S25: =M25+O25 -> 0 | T25: =E25/$E$17 -> #DIV/0! | U25: =G25/$G$9 -> #DIV/0! | V25: =I25/$I$9 -> #DIV/0! | W25: =K25/$K$17 -> #DIV/0! | X25: =M25/$M$17 -> #DIV/0! | Y25: =O25/$O$17 -> #DIV/0! | Z25: =Q25/$Q$9 -> #DIV/0! | AA25: =S25/$S$17 -> #DIV/0!
C26: Tehnici poligrafice | J26: =D26+F26 -> 0 | K26: =E26+G26 -> 0 | R26: =L26+N26 -> 0 | S26: =M26+O26 -> 0 | T26: =E26/$E$17 -> #DIV/0! | U26: =G26/$G$9 -> #DIV/0! | V26: =I26/$I$9 -> #DIV/0! | W26: =K26/$K$17 -> #DIV/0! | X26: =M26/$M$17 -> #DIV/0! | Y26: =O26/$O$17 -> #DIV/0! | Z26: =Q26/$Q$9 -> #DIV/0! | AA26: =S26/$S$17 -> #DIV/0!
C27: Chimie industrială | J27: =D27+F27 -> 0 | K27: =E27+G27 -> 0 | R27: =L27+N27 -> 0 | S27: =M27+O27 -> 0 | T27: =E27/$E$17 -> #DIV/0! | U27: =G27/$G$9 -> #DIV/0! | V27: =I27/$I$9 -> #DIV/0! | W27: =K27/$K$17 -> #DIV/0! | X27: =M27/$M$17 -> #DIV/0! | Y27: =O27/$O$17 -> #DIV/0! | Z27: =Q27/$Q$9 -> #DIV/0! | AA27: =S27/$S$17 -> #DIV/0!
C28: Producţie media | J28: =D28+F28 -> 0 | K28: =E28+G28 -> 0 | R28: =L28+N28 -> 0 | S28: =M28+O28 -> 0 | T28: =E28/$E$17 -> #DIV/0! | U28: =G28/$G$9 -> #DIV/0! | V28: =I28/$I$9 -> #DIV/0! | W28: =K28/$K$17 -> #DIV/0! | X28: =M28/$M$17 -> #DIV/0! | Y28: =O28/$O$17 -> #DIV/0! | Z28: =Q28/$Q$9 -> #DIV/0! | AA28: =S28/$S$17 -> #DIV/0!
C29: Electromecanică | J29: =D29+F29 -> 0 | K29: =E29+G29 -> 0 | R29: =L29+N29 -> 0 | S29: =M29+O29 -> 0 | T29: =E29/$E$17 -> #DIV/0! | U29: =G29/$G$9 -> #DIV/0! | V29: =I29/$I$9 -> #DIV/0! | W29: =K29/$K$17 -> #DIV/0! | X29: =M29/$M$17 -> #DIV/0! | Y29: =O29/$O$17 -> #DIV/0! | Z29: =Q29/$Q$9 -> #DIV/0! | AA29: =S29/$S$17 -> #DIV/0!
A30: profil servicii, total, din care: | D30: =SUM(D31:D34) -> 0 | E30: =SUM(E31:E34) -> 0 | F30: =SUM(F31:F34) -> 0 | G30: =SUM(G31:G34) -> 0 | H30: =SUM(H31:H34) -> 0 | I30: =SUM(I31:I34) -> 0 | J30: =D30+F30 -> 0 | K30: =E30+G30 -> 0 | L30: =SUM(L31:L34) -> 0 | M30: =SUM(M31:M34) -> 0 | N30: =SUM(N31:N34) -> 0 | O30: =SUM(O31:O34) -> 0 | P30: =SUM(P31:P34) -> 0 | Q30: =SUM(Q31:Q34) -> 0 | R30: =L30+N30 -> 0 | S30: =M30+O30 -> 0 | T30: =E30/$E$17 -> #DIV/0! | U30: =G30/$G$9 -> #DIV/0! | V30: =I30/$I$9 -> #DIV/0! | W30: =K30/$K$17 -> #DIV/0! | X30: =M30/$M$17 -> #DIV/0! | Y30: =O30/$O$17 -> #DIV/0! | Z30: =Q30/$Q$9 -> #DIV/0! | AA30: =S30/$S$17 -> #DIV/0!
C31: Estetica şi igiena corpului omenesc | J31: =D31+F31 -> 0 | K31: =E31+G31 -> 0 | R31: =L31+N31 -> 0 | S31: =M31+O31 -> 0 | T31: =E31/$E$17 -> #DIV/0! | U31: =G31/$G$9 -> #DIV/0! | V31: =I31/$I$9 -> #DIV/0! | W31: =K31/$K$17 -> #DIV/0! | X31: =M31/$M$17 -> #DIV/0! | Y31: =O31/$O$17 -> #DIV/0! | Z31: =Q31/$Q$9 -> #DIV/0! | AA31: =S31/$S$17 -> #DIV/0!
C32: Turism şi alimentaţie | J32: =D32+F32 -> 0 | K32: =E32+G32 -> 0 | R32: =L32+N32 -> 0 | S32: =M32+O32 -> 0 | T32: =E32/$E$17 -> #DIV/0! | U32: =G32/$G$9 -> #DIV/0! | V32: =I32/$I$9 -> #DIV/0! | W32: =K32/$K$17 -> #DIV/0! | X32: =M32/$M$17 -> #DIV/0! | Y32: =O32/$O$17 -> #DIV/0! | Z32: =Q32/$Q$9 -> #DIV/0! | AA32: =S32/$S$17 -> #DIV/0!
C33: Comerţ | J33: =D33+F33 -> 0 | K33: =E33+G33 -> 0 | R33: =L33+N33 -> 0 | S33: =M33+O33 -> 0 | T33: =E33/$E$17 -> #DIV/0! | U33: =G33/$G$9 -> #DIV/0! | V33: =I33/$I$9 -> #DIV/0! | W33: =K33/$K$17 -> #DIV/0! | X33: =M33/$M$17 -> #DIV/0! | Y33: =O33/$O$17 -> #DIV/0! | Z33: =Q33/$Q$9 -> #DIV/0! | AA33: =S33/$S$17 -> #DIV/0!
C34: Economic | J34: =D34+F34 -> 0 | K34: =E34+G34 -> 0 | R34: =L34+N34 -> 0 | S34: =M34+O34 -> 0 | T34: =E34/$E$17 -> #DIV/0! | U34: =G34/$G$9 -> #DIV/0! | V34: =I34/$I$9 -> #DIV/0! | W34: =K34/$K$17 -> #DIV/0! | X34: =M34/$M$17 -> #DIV/0! | Y34: =O34/$O$17 -> #DIV/0! | Z34: =Q34/$Q$9 -> #DIV/0! | AA34: =S34/$S$17 -> #DIV/0!
A35: profil resurse naturale şi protecţia mediului, total, din care: | D35: =SUM(D36:D39) -> 0 | E35: =SUM(E36:E39) -> 0 | F35: =SUM(F36:F39) -> 0 | G35: =SUM(G36:G39) -> 0 | H35: =SUM(H36:H39) -> 0 | I35: =SUM(I36:I39) -> 0 | J35: =D35+F35 -> 0 | K35: =E35+G35 -> 0 | L35: =SUM(L36:L39) -> 0 | M35: =SUM(M36:M39) -> 0 | N35: =SUM(N36:N39) -> 0 | O35: =SUM(O36:O39) -> 0 | P35: =SUM(P36:P39) -> 0 | Q35: =SUM(Q36:Q39) -> 0 | R35: =L35+N35 -> 0 | S35: =M35+O35 -> 0 | T35: =E35/$E$17 -> #DIV/0! | U35: =G35/$G$9 -> #DIV/0! | V35: =I35/$I$9 -> #DIV/0! | W35: =K35/$K$17 -> #DIV/0! | X35: =M35/$M$17 -> #DIV/0! | Y35: =O35/$O$17 -> #DIV/0! | Z35: =Q35/$Q$9 -> #DIV/0! | AA35: =S35/$S$17 -> #DIV/0!
C36: Agricultură | J36: =D36+F36 -> 0 | K36: =E36+G36 -> 0 | R36: =L36+N36 -> 0 | S36: =M36+O36 -> 0 | T36: =E36/$E$17 -> #DIV/0! | U36: =G36/$G$9 -> #DIV/0! | V36: =I36/$I$9 -> #DIV/0! | W36: =K36/$K$17 -> #DIV/0! | X36: =M36/$M$17 -> #DIV/0! | Y36: =O36/$O$17 -> #DIV/0! | Z36: =Q36/$Q$9 -> #DIV/0! | AA36: =S36/$S$17 -> #DIV/0!
C37: Industrie alimentară | J37: =D37+F37 -> 0 | K37: =E37+G37 -> 0 | R37: =L37+N37 -> 0 | S37: =M37+O37 -> 0 | T37: =E37/$E$17 -> #DIV/0! | U37: =G37/$G$9 -> #DIV/0! | V37: =I37/$I$9 -> #DIV/0! | W37: =K37/$K$17 -> #DIV/0! | X37: =M37/$M$17 -> #DIV/0! | Y37: =O37/$O$17 -> #DIV/0! | Z37: =Q37/$Q$9 -> #DIV/0! | AA37: =S37/$S$17 -> #DIV/0!
C38: Protecţia mediului | J38: =D38+F38 -> 0 | K38: =E38+G38 -> 0 | R38: =L38+N38 -> 0 | S38: =M38+O38 -> 0 | T38: =E38/$E$17 -> #DIV/0! | U38: =G38/$G$9 -> #DIV/0! | V38: =I38/$I$9 -> #DIV/0! | W38: =K38/$K$17 -> #DIV/0! | X38: =M38/$M$17 -> #DIV/0! | Y38: =O38/$O$17 -> #DIV/0! | Z38: =Q38/$Q$9 -> #DIV/0! | AA38: =S38/$S$17 -> #DIV/0!
C39: Silvicultură | J39: =D39+F39 -> 0 | K39: =E39+G39 -> 0 | R39: =L39+N39 -> 0 | S39: =M39+O39 -> 0 | T39: =E39/$E$17 -> #DIV/0! | U39: =G39/$G$9 -> #DIV/0! | V39: =I39/$I$9 -> #DIV/0! | W39: =K39/$K$17 -> #DIV/0! | X39: =M39/$M$17 -> #DIV/0! | Y39: =O39/$O$17 -> #DIV/0! | Z39: =Q39/$Q$9 -> #DIV/0! | AA39: =S39/$S$17 -> #DIV/0!
A40: 3) Filiera vocaţională, total, din care: | D40: =SUM(D41:D48) -> 0 | E40: =SUM(E41:E48) -> 0 | F40: =SUM(F41:F48) -> 0 | G40: =SUM(G41:G48) -> 0 | H40: =SUM(H41:H48) -> 0 | I40: =SUM(I41:I48) -> 0 | J40: =D40+F40 -> 0 | K40: =E40+G40 -> 0 | L40: =SUM(L41:L48) -> 0 | M40: =SUM(M41:M48) -> 0 | N40: =SUM(N41:N48) -> 0 | O40: =SUM(O41:O48) -> 0 | P40: =SUM(P41:P48) -> 0 | Q40: =SUM(Q41:Q48) -> 0 | R40: =L40+N40 -> 0 | S40: =M40+O40 -> 0 | T40: =E40/E9 -> 0 | U40: =G40/$G$9 -> #DIV/0! | V40: =I40/$I$9 -> #DIV/0! | W40: =K40/K9 -> 0 | X40: =M40/M9 -> 0 | Y40: =O40/O9 -> #DIV/0! | Z40: =Q40/$Q$9 -> #DIV/0! | AA40: =S40/S9 -> 0
A41: Profil sportiv | J41: =D41+F41 -> 0 | K41: =E41+G41 -> 0
...

Sheet CL a IX a INV SPECIAL ZI
A1: Inspectoratul Şcolar ………………….
A3: ANALIZA PLANULUI DE ȘCOLARIZARE REALIZAT LA ÎNVĂȚĂMÂNTUL LICEAL, SPECIAL, CU FRECVENŢĂ ZI, CLASA A IX-A, ÎN ANUL ŞCOLAR 2021-2022, COMPARATIV CU ANUL ŞCOLAR 2020-2021
A4: NOTĂ: Se completează numai celulele marcate cu verde. Datele pentru Existent 2020-2021 sunt cele de la începutul de anului şcolar
A5: FILIERA/PROFILUL | B5: SPECIALIZARE | C5: DOMENIUL PREGĂTIRII DE BAZĂ | D5: Existent clasa a IX-a zi 2020-2021 | F5: Existent clasa a IX-a zi 2021-2022
D6: Nr.cl. | E6: Nr. elevi | F6: Nr.cl. | G6: Nr. elevi
A7: TOTAL CL A IX-A ZI, din care: | D7: =D8+D15 -> 0 | E7: =E8+E15 -> 0 | F7: =F8+F15 -> 0 | G7: =G8+G15 -> 0
A8: 1) Filiera teoretică, total: | D8: =D9+D12 -> 0 | E8: =E9+E12 -> 0 | F8: =F9+F12 -> 0 | G8: =G9+G12 -> 0
A9: Profil real, total, din care: | D9: =D10+D11 -> 0 | E9: =E10+E11 -> 0 | F9: =F10+F11 -> 0 | G9: =G10+G11 -> 0
B10: Matematică-informatică
B11: Ştiinţe ale naturii
A12: Profil uman, total, din care: | D12: =D13+D14 -> 0 | E12: =E13+E14 -> 0 | F12: =F13+F14 -> 0 | G12: =G13+G14 -> 0
B13: Filologie
B14: Ştiinţe sociale
A15: 2) Filiera tehnologică, total, din care: | D15: =D16+D28+D33 -> 0 | E15: =E16+E28+E33 -> 0 | F15: =F16+F28+F33 -> 0 | G15: =G16+G28+G33 -> 0
A16: Profil tehnic, total, din care: | D16: =SUM(D17:D27) -> 0 | E16: =SUM(E17:E27) -> 0 | F16: =SUM(F17:F27) -> 0 | G16: =SUM(G17:G27) -> 0
C17: Materiale de construcţii
C18: Industrie textilă şi pielărie
C19: Construcţii, instalaţii şi lucrări publice
C20: Electronică automatizări
C21: Fabricarea produselor din lemn
C22: Mecanică
C23: Electric
C24: Tehnici poligrafice
C25: Chimie industrială
C26: Producţie media
C27: Electromecanică
A28: Profil servicii, total, din care: | D28: =SUM(D29:D32) -> 0 | E28: =SUM(E29:E32) -> 0 | F28: =SUM(F29:F32) -> 0 | G28: =SUM(G29:G32) -> 0
C29: Estetica şi igiena corpului omenesc
C30: Turism şi alimentaţie
C31: Comerţ
C32: Economic
A33: profil resurse naturale şi protecţia mediului, total, din care: | D33: =SUM(D34:D37) -> 0 | E33: =SUM(E34:E37) -> 0 | F33: =SUM(F34:F37) -> 0 | G33: =SUM(G34:G37) -> 0
C34: Agricultură
C35: Industrie alimentară
C36: Protecţia mediului
C37: Silvicultură
A39: Inspector Şcolar General, | C39: Inspector şcolar pentru IPT | E39: Inspector şcolar pentru Reţea şcolară
A40: ……………. | C40: ……….. | E40: ………..

Sheet INV PROFESIONAL SPECIAL
A1: Inspectortul Şcolar……………..
A3: ANALIZA PLANULUI DE ȘCOLARIZARE REALIZAT LA ÎNVĂȚĂMÂNTUL SPECIAL, PROFESIONAL DE ZI (inclusiv dual), clasa a IX-a ÎN ANUL ȘCOLAR 2021-2022, COMPARATIV CU ANUL ŞCOLAR 2020-2021
A5: NOTĂ: Se completează numai celulele marcate cu verde. Datele pentru Existent 2020-2021 sunt cele de la începutul de anului şcolar
A6: DOMENIUL | B6: Existent 2020 - 2021 | F6: Existent 2021 - 2022 | J6: Ponderi
B7: TOTAL EXISTENT CLASA A IX-a ÎNV.PROFESIONAL+ DUAL | D7: Din care învăţământ dual | F7: TOTAL EXISTENT CLASA A IX-a ÎNV.PROFESIONAL+ DUAL | H7: Din care învăţământ dual
B8: Nr.cl. | C8: Nr. elevi | D8: Nr.cl. | E8: Nr. elevi | F8: Nr.cl. | G8: Nr. elevi | H8: Nr.cl. | I8: Nr. elevi | J8: Ponderi existent 2020-2021 | K8: Ponderi existent 2021-2022
A9: TOTAL, din care: | B9: =SUM(B10:B29) -> 0 | C9: =SUM(C10:C29) -> 0 | D9: =SUM(D10:D29) -> 0 | E9: =SUM(E10:E29) -> 0 | F9: =SUM(F10:F29) -> 0 | G9: =SUM(G10:G29) -> 0 | H9: =SUM(H10:H29) -> 0 | I9: =SUM(I10:I29) -> 0 | J9: =SUM(J10:J27) -> #DIV/0! | K9: =SUM(K10:K27) -> #DIV/0!
A10: Materiale de construcţii | J10: =C10/$C$9 -> #DIV/0! | K10: =G10/$G$9 -> #DIV/0!
A11: Industrie textilă şi pielărie | J11: =C11/$C$9 -> #DIV/0! | K11: =G11/$G$9 -> #DIV/0!
A12: Construcţii, instalaţii şi lucrări publice | J12: =C12/$C$9 -> #DIV/0! | K12: =G12/$G$9 -> #DIV/0!
A13: Electronică automatizări | J13: =C13/$C$9 -> #DIV/0! | K13: =G13/$G$9 -> #DIV/0!
A14: Fabricarea produselor din lemn | J14: =C14/$C$9 -> #DIV/0! | K14: =G14/$G$9 -> #DIV/0!
A15: Mecanică | J15: =C15/$C$9 -> #DIV/0! | K15: =G15/$G$9 -> #DIV/0!
A16: Electric | J16: =C16/$C$9 -> #DIV/0! | K16: =G16/$G$9 -> #DIV/0!
A17: Tehnici poligrafice | J17: =C17/$C$9 -> #DIV/0! | K17: =G17/$G$9 -> #DIV/0!
A18: Chimie industrială | J18: =C18/$C$9 -> #DIV/0! | K18: =G18/$G$9 -> #DIV/0!
A19: Producţie media | J19: =C19/$C$9 -> #DIV/0! | K19: =G19/$G$9 -> #DIV/0!
A20: Electromecanică | J20: =C20/$C$9 -> #DIV/0! | K20: =G20/$G$9 -> #DIV/0!
A21: Estetica şi igiena corpului omenesc | J21: =C21/$C$9 -> #DIV/0! | K21: =G21/$G$9 -> #DIV/0!
... A29: Profil teologic | J29: =C29/$C$9 -> #DIV/0! | K29: =G29/$G$9 -> #DIV/0!
A31: Inspector Şcolar General, | D31: Inspector şcolar pentru IPT | I31: Inspector şcolar pentru Reţea şcolară
A32: ………… | D32: …………. | I32: ………….

Sheet INV PROF DE MASA 3 ANI
A1: Inspectortul Şcolar……………..
A3: ANALIZA PROIECTULUI PLANULUI DE ȘCOLARIZARE LA ÎNVĂȚĂMÂNTUL DE MASĂ, ROFESIONAL (inclusiv dual) ÎN ANUL ȘCOLAR 2021-2022, COMPARTIV CU ANUL ŞCOLAR 2020-2021
A5: NOTĂ: Macheta se genereaza automat din datele din foaia de lucru "CL a IX a INV DE MASA ZI"
A6: DOMENIUL | B6: EXISTENT CLASA a IX-a ÎNVĂȚĂMÂNT PROFESIONAL ÎN 2020-2021 | D6: EXISTENT CLASA a IX-a ÎNVĂȚĂMÂNT PROFESIONAL ÎN 2021-2022 | F6: Ponderi
B7: Nr.cl. | C7: Nr. elevi | D7: Nr.cl. | E7: Nr. elevi | F7: Ponderi existent 2020-2021 | G7: Ponderi existent 2021-2022
A8: TOTAL, din care: | B8: =SUM(B9:B26) -> 0 | C8: =SUM(C9:C26) -> 0 | D8: =SUM(D9:D26) -> 0 | E8: =SUM(E9:E26) -> 0 | F8: =SUM(F9:F26) -> #DIV/0! | G8: =SUM(G9:G26) -> #DIV/0!
A9: Mecanică | B9: ='CL a IX a INV DE MASA ZI'!F24 -> 0 | C9: ='CL a IX a INV DE MASA ZI'!G24 -> 0 | D9: ='CL a IX a INV DE MASA ZI'!N24 -> 0 | E9: ='CL a IX a INV DE MASA ZI'!O24 -> 0 | F9: =C9/$C$8 -> #DIV/0! | G9: =E9/$E$8 -> #DIV/0!
A10: Electromecanică | B10: ='CL a IX a INV DE MASA ZI'!F29 -> 0 | C10: ='CL a IX a INV DE MASA ZI'!G29 -> 0 | D10: ='CL a IX a INV DE MASA ZI'!N29 -> 0 | E10: ='CL a IX a INV DE MASA ZI'!O29 -> 0 | F10: =C10/$C$8 -> #DIV/0! | G10: =E10/$E$8 -> #DIV/0!
A11: Electronică automatizări | B11: ='CL a IX a INV DE MASA ZI'!F22 -> 0 | C11: ='CL a IX a INV DE MASA ZI'!G22 -> 0 | D11: ='CL a IX a INV DE MASA ZI'!N22 -> 0 | E11: ='CL a IX a INV DE MASA ZI'!O22 -> 0 | F11: =C11/$C$8 -> #DIV/0! | G11: =E11/$E$8 -> #DIV/0!
A12: Chimie industrială | B12: ='CL a IX a INV DE MASA ZI'!F27 -> 0 | C12: ='CL a IX a INV DE MASA ZI'!G27 -> 0 | D12: ='CL a IX a INV DE MASA ZI'!N27 -> 0 | E12: ='CL a IX a INV DE MASA ZI'!O27 -> 0 | F12: =C12/$C$8 -> #DIV/0! | G12: =E12/$E$8 -> #DIV/0!
A13: Materiale de construcţii | B13: ='CL a IX a INV DE MASA ZI'!F19 -> 0 | C13: ='CL a IX a INV DE MASA ZI'!G19 -> 0 | D13: ='CL a IX a INV DE MASA ZI'!N19 -> 0 | E13: ='CL a IX a INV DE MASA ZI'!O19 -> 0 | F13: =C13/$C$8 -> #DIV/0! | G13: =E13/$E$8 -> #DIV/0!
A14: Electric | B14: ='CL a IX a INV DE MASA ZI'!F25 -> 0 | C14: ='CL a IX a INV DE MASA ZI'!G25 -> 0 | D14: ='CL a IX a INV DE MASA ZI'!N25 -> 0 | E14: ='CL a IX a INV DE MASA ZI'!O25 -> 0 | F14: =C14/$C$8 -> #DIV/0! | G14: =E14/$E$8 -> #DIV/0!
A15: Construcţii, instalaţii şi lucrări publice | B15: ='CL a IX a INV DE MASA ZI'!F21 -> 0 | C15: ='CL a IX a INV DE MASA ZI'!G21 -> 0 | D15: ='CL a IX a INV DE MASA ZI'!N21 -> 0 | E15: ='CL a IX a INV DE MASA ZI'!O21 -> 0 | F15: =C15/$C$8 -> #DIV/0! | G15: =E15/$E$8 -> #DIV/0!
A16: Agricultură | B16: ='CL a IX a INV DE MASA ZI'!F36 -> 0 | C16: ='CL a IX a INV DE MASA ZI'!G36 -> 0 | D16: ='CL a IX a INV DE MASA ZI'!N36 -> 0 | E16: ='CL a IX a INV DE MASA ZI'!O36 -> 0 | F16: =C16/$C$8 -> #DIV/0! | G16: =E16/$E$8 -> #DIV/0!
A17: Silvicultură | B17: ='CL a IX a INV DE MASA ZI'!F39 -> 0 | C17: ='CL a IX a INV DE MASA ZI'!G39 -> 0 | D17: ='CL a IX a INV DE MASA ZI'!N39 -> 0 | E17: ='CL a IX a INV DE MASA ZI'!O39 -> 0 | F17: =C17/$C$8 -> #DIV/0! | G17: =E17/$E$8 -> #DIV/0!
A18: Comerţ | B18: ='CL a IX a INV DE MASA ZI'!F33 -> 0 | C18: ='CL a IX a INV DE MASA ZI'!G33 -> 0 | D18: ='CL a IX a INV DE MASA ZI'!N33 -> 0 | E18: ='CL a IX a INV DE MASA ZI'!O33 -> 0 | F18: =C18/$C$8 -> #DIV/0! | G18: =E18/$E$8 -> #DIV/0!
A19: Turism şi alimentaţie | B19: ='CL a IX a INV DE MASA ZI'!F32 -> 0 | C19: ='CL a IX a INV DE MASA ZI'!G32 -> 0 | D19: ='CL a IX a INV DE MASA ZI'!N32 -> 0 | E19: ='CL a IX a INV DE MASA ZI'!O32 -> 0 | F19: =C19/$C$8 -> #DIV/0! | G19: =E19/$E$8 -> #DIV/0!
A20: Industrie alimentară | B20: ='CL a IX a INV DE MASA ZI'!F37 -> 0 | C20: ='CL a IX a INV DE MASA ZI'!G37 -> 0 | D20: ='CL a IX a INV DE MASA ZI'!N37 -> 0 | E20: ='CL a IX a INV DE MASA ZI'!O37 -> 0 | F20: =C20/$C$8 -> #DIV/0! | G20: =E20/$E$8 -> #DIV/0!
A21: Fabricarea produselor din lemn | B21: ='CL a IX a INV DE MASA ZI'!F23 -> 0 | C21: ='CL a IX a INV DE MASA ZI'!G23 -> 0 | D21: ='CL a IX a INV DE MASA ZI'!N23 -> 0 | E21: ='CL a IX a INV DE MASA ZI'!O23 -> 0 | F21: =C21/$C$8 -> #DIV/0! | G21: =E21/$E$8 -> #DIV/0!
A22: Industrie textilă şi pielărie | B22: ='CL a IX a INV DE MASA ZI'!F20 -> 0 | C22: ='CL a IX a INV DE MASA ZI'!G20 -> 0 | D22: ='CL a IX a INV DE MASA ZI'!N20 -> 0 | E22: ='CL a IX a INV DE MASA ZI'!O20 -> 0 | F22: =C22/$C$8 -> #DIV/0! | G22: =E22/$E$8 -> #DIV/0!
A23: Tehnici poligrafice | B23: ='CL a IX a INV DE MASA ZI'!F26 -> 0 | C23: ='CL a IX a INV DE MASA ZI'!G26 -> 0 | D23: ='CL a IX a INV DE MASA ZI'!N26 -> 0 | E23: ='CL a IX a INV DE MASA ZI'!O26 -> 0 | F23: =C23/$C$8 -> #DIV/0! | G23: =E23/$E$8 -> #DIV/0!
A24: Estetica şi igiena corpului omenesc | B24: ='CL a IX a INV DE MASA ZI'!F31 -> 0 | C24: ='CL a IX a INV DE MASA ZI'!G31 -> 0 | D24: ='CL a IX a INV DE MASA ZI'!N31 -> 0 | E24: ='CL a IX a INV DE MASA ZI'!O31 -> 0 | F24: =C24/$C$8 -> #DIV/0! | G24: =E24/$E$8 -> #DIV/0!
A25: Producţie media | B25: ='CL a IX a INV DE MASA ZI'!F28 -> 0 | C25: ='CL a IX a INV DE MASA ZI'!G28 -> 0 | D25: ='CL a IX a INV DE MASA ZI'!N28 -> 0 | E25: ='CL a IX a INV DE MASA ZI'!O28 -> 0 | F25: =C25/$C$8 -> #DIV/0! | G25: =E25/$E$8 -> #DIV/0!
A26: Teologic | B26: ='CL a IX a INV DE MASA ZI'!F42 -> 0 | C26: ='CL a IX a INV DE MASA ZI'!G42 -> 0 | D26: ='CL a IX a INV DE MASA ZI'!N42 -> 0 | E26: ='CL a IX a INV DE MASA ZI'!O42 -> 0 | F26: =C26/$C$8 -> #DIV/0! | G26: =E26/$E$8 -> #DIV/0!
A28: Inspector Şcolar General, | B28: Inspector şcolar pentru IPT | F28: Inspector şcolar pentru Reţea şcolară
A30: ………… | B30: ……………. | F30: ……………….

Sheet INV_DE MASA DUAL
A1: Inspectortul Şcolar……………..
A3: ANALIZA PROIECTULUI PLANULUI DE ȘCOLARIZARE LA ÎNVĂȚĂMÂNTUL DE MASĂ, DUAL, ÎN ANUL ȘCOLAR 2021-2022, COMPARTIV CU ANUL ŞCOLAR 2020-2021
A5: NOTĂ: Macheta se genereaza automat din datele din foaia de lucru "CL a IX a INV DE MASA ZI"
A6: DOMENIUL | B6: EXISTENT CLASA a IX-a ÎNVĂȚĂMÂNT DUAL ÎN 2020-2021 | D6: EXISTENT CLASA a IX-a INVĂȚĂMÂNT DUAL ÎN 2021-2022 | F6: Ponderi
B7: Nr.cl. | C7: Nr. elevi | D7: Nr.cl. | E7: Nr. elevi | F7: Ponderi existent 2020-2021 | G7: Ponderi existent 2021-2022
A8: TOTAL, din care: | B8: =SUM(B9:B27) -> 0 | C8: =SUM(C9:C27) -> 0 | D8: =SUM(D9:D27) -> 0 | E8: =SUM(E9:E27) -> 0 | F8: =SUM(F9:F27) -> #DIV/0! | G8: =SUM(G9:G27) -> #DIV/0!
A9: mecanică | B9: ='CL a IX a INV DE MASA ZI'!H24 -> 0 | C9: ='CL a IX a INV DE MASA ZI'!I24 -> 0 | D9: ='CL a IX a INV DE MASA ZI'!P24 -> 0 | E9: ='CL a IX a INV DE MASA ZI'!Q24 -> 0 | F9: =C9/$C$8 -> #DIV/0! | G9: =E9/$E$8 -> #DIV/0!
A10: electromecanică | B10: ='CL a IX a INV DE MASA ZI'!H29 -> 0 | C10: ='CL a IX a INV DE MASA ZI'!I29 -> 0 | D10: ='CL a IX a INV DE MASA ZI'!P29 -> 0 | E10: ='CL a IX a INV DE MASA ZI'!Q29 -> 0 | F10: =C10/$C$8 -> #DIV/0! | G10: =E10/$E$8 -> #DIV/0!
A11: electronică automatizări | B11: ='CL a IX a INV DE MASA ZI'!H22 -> 0 | C11: ='CL a IX a INV DE MASA ZI'!I22 -> 0 | D11: ='CL a IX a INV DE MASA ZI'!P22 -> 0 | E11: ='CL a IX a INV DE MASA ZI'!Q22 -> 0 | F11: =C11/$C$8 -> #DIV/0! | G11: =E11/$E$8 -> #DIV/0!
A12: chimie industrială | B12: ='CL a IX a INV DE MASA ZI'!H27 -> 0 | C12: ='CL a IX a INV DE MASA ZI'!I27 -> 0 | D12: ='CL a IX a INV DE MASA ZI'!P27 -> 0 | E12: ='CL a IX a INV DE MASA ZI'!Q27 -> 0 | F12: =C12/$C$8 -> #DIV/0! | G12: =E12/$E$8 -> #DIV/0!
A13: materiale de construcţii | B13: ='CL a IX a INV DE MASA ZI'!H19 -> 0 | C13: ='CL a IX a INV DE MASA ZI'!I19 -> 0 | D13: ='CL a IX a INV DE MASA ZI'!P19 -> 0 | E13: ='CL a IX a INV DE MASA ZI'!Q19 -> 0 | F13: =C13/$C$8 -> #DIV/0! | G13: =E13/$E$8 -> #DIV/0!
A14: electric | B14: ='CL a IX a INV DE MASA ZI'!H25 -> 0 | C14: ='CL a IX a INV DE MASA ZI'!I25 -> 0 | D14: ='CL a IX a INV DE MASA ZI'!P25 -> 0 | E14: ='CL a IX a INV DE MASA ZI'!Q25 -> 0 | F14: =C14/$C$8 -> #DIV/0! | G14: =E14/$E$8 -> #DIV/0!
A15: construcţii instalaţii şi lucrări publice | B15: ='CL a IX a INV DE MASA ZI'!H21 -> 0 | C15: ='CL a IX a INV DE MASA ZI'!I21 -> 0 | D15: ='CL a IX a INV DE MASA ZI'!P21 -> 0 | E15: ='CL a IX a INV DE MASA ZI'!Q21 -> 0 | F15: =C15/$C$8 -> #DIV/0! | G15: =E15/$E$8 -> #DIV/0!
A16: agricultură | B16: ='CL a IX a INV DE MASA ZI'!H36 -> 0 | C16: ='CL a IX a INV DE MASA ZI'!I36 -> 0 | D16: ='CL a IX a INV DE MASA ZI'!P36 -> 0 | E16: ='CL a IX a INV DE MASA ZI'!Q36 -> 0 | F16: =C16/$C$8 -> #DIV/0! | G16: =E16/$E$8 -> #DIV/0!
A17: silvicultură | B17: ='CL a IX a INV DE MASA ZI'!H39 -> 0 | C17: ='CL a IX a INV DE MASA ZI'!I39 -> 0 | D17: ='CL a IX a INV DE MASA ZI'!P39 -> 0 | E17: ='CL a IX a INV DE MASA ZI'!Q39 -> 0 | F17: =C17/$C$8 -> #DIV/0! | G17: =E17/$E$8 -> #DIV/0!
A18: comert | B18: ='CL a IX a INV DE MASA ZI'!H33 -> 0 | C18: ='CL a IX a INV DE MASA ZI'!I33 -> 0 | D18: ='CL a IX a INV DE MASA ZI'!P33 -> 0 | E18: ='CL a IX a INV DE MASA ZI'!Q33 -> 0 | F18: =C18/$C$8 -> #DIV/0! | G18: =E18/$E$8 -> #DIV/0!
