Workbook

Sheet DATE_SOLICITATE
A1: Vă rog să nu confundaţi DREPTUL DE UTILIZARE cu KITUL DE INSTALARE. Prin urmare, număraţi efectiv pe câte calculatoare din şcoala Dvs. s-au instalat efectiv licenţele primite în martie-mai 2012 (kiturile conţineau Windows 7 cu Office 2010 şi Windows Server 2012) – aveaţi obligaţia de a efectua aceste operaţii, până la 15 septembrie 2012, pe toate calculatoarele utilizate în activitatea instructiv-educativă şi care aveau cel puţin sistem de operare Windows OEM (orice versiune) şi care permiteau din punct de vedere hardware instalarea acelor imagini primite. Am scris 15 septembrie 2012 deoarece ştim cu toţii că acele imagini primite în martie 2012 nu puteau fi instalate decât după încheierea examenelor naţionale.
A2: Dacă unitatea Dvs. nu se regăsește în listă, vă rog să o adăugați la sfârșit, respectând structura tabelului.
A3: Se vor trece și unitățile care au primit/instalat ulterior (până la data de 1 iunie 2013).
F5: SITUATIA RAPORTATA LA 13 IULIE 2012 | G5: Nr. Licențe utilizate în unitățile de învățământ din județ la data de 1 iunie 2013
A6: JUDET | B6: LOCALITATE | C6: COD FISCAL | D6: COD SIRUES | E6: DENUMIREA UNITATII DE INVATAMANT PUBLICA, CU PERSONALITATE JURIDICA | G6: Pachet Profesional Desktop | H6: Core CAL | I6: Windows Server Standard
A7: HD | B7: Baia De Cris | C7: 29006222 | D7: 527008 | E7: SCOALA GENERALA CLS I - VIII 'AVRAM IANCU' BAIA DE CRIS | F7: =Foaie1!A7 -> 4
A8: HD | B8: Baita | C8: 29012925 | D8: 527292 | E8: SCOALA GENERALA CLS I - VIII BAITA | F8: =Foaie1!A8 -> 14
A9: HD | B9: Balsa | C9: 29033898 | D9: 527084 | E9: SCOALA GENERALA CLS I - IV BALSA | F9: =Foaie1!A9 -> 4
A10: HD | B10: Banita | C10: 29001314 | D10: 526511 | E10: SCOALA GENERALA CLS I - VIII BANITA | F10: =Foaie1!A10 -> 4
A11: HD | B11: Beriu | C11: 29033936 | D11: 527412 | E11: SCOALA GENERALA CLS I - VIII 'CONSTANTIN DAICOVICI' BERIU | F11: =Foaie1!A11 -> 29
A12: HD | B12: Bosorod | C12: 29001365 | D12: 527618 | E12: SCOALA GENERALA CLS I - VIII BOSOROD | F12: =Foaie1!A12 -> 4
A13: HD | B13: Brad | C13: 4944680 | D13: 530782 | E13: COLEGIUL NATIONAL 'AVRAM IANCU' BRAD | F13: =Foaie1!A13 -> 31
A14: HD | B14: Branisca | C14: 28996652 | D14: 527709 | E14: SCOALA GENERALA CLS I - VIII 'NICOLAE TIC' CLS I - VIII BRANISCA | F14: =Foaie1!A14 -> 0
A15: HD | B15: Bretea Romana | C15: 29001357 | D15: 527773 | E15: SCOALA GENERALA CLS I - VIII BRETEA ROMANA | F15: =Foaie1!A15 -> 8
A16: HD | B16: Buces | C16: 29060272 | D16: 527955 | E16: SCOALA GENERALA CLS I - VIII 'ION BUTEANU' BUCES | F16: =Foaie1!A16 -> 12
A17: HD | B17: Bucuresci | C17: 29060256 | D17: 527565 | E17: SCOALA GENERALA CLS I - VIII 'SABIN OPREAN' BUCURESCI | F17: =Foaie1!A17 -> 4
A18: HD | B18: Burjuc | C18: 29006311 | D18: 528088 | E18: SCOALA GENERALA CLS I - IV BURJUC | F18: =Foaie1!A18 -> 0
... A36: HD | B36: Geoagiu | C36: 3365125 | D36: 844377 | E36: COLEGIUL TEHNIC AGRICOL 'ALEXANDRU BORZA' GEOAGIU | F36: =Foaie1!A36 -> 42
A37: HD | B37: Ghelari | D37: 526054 | E37: LICEUL TEORETIC GHELARI | F37: =Foaie1!A37 -> 7
A38: HD | B38: Gurasada | C38: 29051282 | D38: 528492 | E38: SCOALA GENERALA CLS I - VIII GURASADA | F38: =Foaie1!A38 -> 4
A39: HD | B39: Harau | C39: 28996660 | D39: 528210 | E39: SCOALA GENERALA CLS I - VIII HARAU | F39: =Foaie1!A39 -> 4
A40: HD | B40: Hasdau | C40: 29000947 | D40: 530079 | E40: SCOALA GENERALA CLS I - IV HASDAU | F40: =Foaie1!A40 -> 4
A41: HD | B41: Hateg | C41: 4375003 | D41: 530794 | E41: COLEGIUL NATIONAL 'I.C. BRATIANU' HATEG | F41: =Foaie1!A41 -> 25
A42: HD | B42: Hateg | E42: CLUBUL COPIILOR SI ELEVILOR HATEG | F42: =Foaie1!A42 -> 4
A43: HD | B43: Hunedoara | C43: 4779699 | D43: 777225 | E43: COLEGIUL TEHNIC 'MATEI CORVIN' HUNEDOARA | F43: =Foaie1!A43 -> 25 | G43: 25 | H43: 25 | I43: 1
A44: HD | B44: Hunedoara | C44: 4634094 | D44: 530732 | E44: COLEGIUL ECONOMIC 'EMANUIL GOJDU' HUNEDOARA | F44: =Foaie1!A44 -> 25
A45: HD | B45: Hunedoara | C45: 3628817 | D45: 530720 | E45: COLEGIUL NATIONAL 'IANCU DE HUNEDOARA' HUNEDOARA | F45: =Foaie1!A45 -> 44
A46: HD | B46: Hunedoara | C46: 4468862 | D46: 1181710 | E46: GRUP SCOLAR DE TELECOMUNICATII SI LUCRARI PUBLICE HUNEDOARA | F46: =Foaie1!A46 -> 25
A47: HD | B47: Hunedoara | C47: 27410363 | D47: 3100126 | E47: CENTRU DE PEDAGOGIE CURATIVA HUNEDOARA | F47: =Foaie1!A47 -> 3
A48: HD | B48: Hunedoara | C48: 9762892 | D48: 3129754 | E48: COLEGIUL NATIONAL DE INFORMATICA 'TRAIAN LALESCU' HUNEDOARA | F48: =Foaie1!A48 -> 25
B49: Hunedoara | E49: SCOALA GENERALA CLS I - VIII NR.2 HUNEDOARA | F49: =Foaie1!A49 -> 44
A50: HD | B50: Ilia | C50: 5673520 | D50: 530809 | E50: LICEUL TEORETIC 'SILVIU DRAGOMIR' ILIA | F50: =Foaie1!A50 -> 4
A51: HD | B51: Luncoiu De Jos | C51: 29034010 | D51: 529020 | E51: SCOALA GENERALA CLS I - VIII LUNCOIU DE JOS | F51: =Foaie1!A51 -> 5
A52: HD | B52: Lupeni | C52: 4375062 | D52: 1181693 | E52: GRUP SCOLAR MINIER LUPENI | F52: =Foaie1!A52 -> 25
A53: HD | B53: Lupeni | C53: 4814427 | D53: 530768 | E53: LICEUL TEORETIC LUPENI | F53: =Foaie1!A53 -> 25
A54: HD | B54: Orastie | C54: 5453916 | D54: 1181722 | E54: COLEGIUL NATIONAL 'AUREL VLAICU' ORASTIE | F54: =Foaie1!A54 -> 24
A55: HD | B55: Orastie | C55: 5453924 | D55: 959005 | E55: GRUP SCOLAR "NICOLAUS OLAHUS" ORASTIE | F55: =Foaie1!A55 -> 26
A56: HD | B56: Orastioara De Sus | C56: 529111 | D56: 529111 | E56: SCOALA GENERALA CLS I - VIII 'HADRIAN DAICOVICIU' ORASTIOARA DE SUS | F56: =Foaie1!A56 -> 11
A57: HD | B57: Petrila | C57: 4375119 | D57: 1099979 | E57: GRUP SCOLAR 'CONSTANTIN BRANCUSI' PETRILA | F57: =Foaie1!A57 -> 45
A58: HD | B58: Petros | C58: 527216 | D58: 527216 | E58: SCOALA GENERALA CLS I - VIII PETROS BARU | F58: =Foaie1!A58 -> 29
A59: HD | B59: Petrosani | C59: 27329162 | D59: 845709 | E59: COLEGIUL ECONOMIC "HERMES" PETROSANI | F59: =Foaie1!A59 -> 25
A60: HD | B60: Petrosani | C60: 27329863 | D60: 1181681 | E60: GRUP SCOLAR "DIMITRIE LEONIDA" PETROSANI | F60: =Foaie1!A60 -> 25
A61: HD | B61: Petrosani | C61: 27336550 | D61: 530744 | E61: LICEUL DE INFORMATICA PETROSANI | F61: =Foaie1!A61 -> 25
A62: HD | B62: Petrosani | C62: 5114456 | D62: 3100019 | E62: LICEUL TEORETIC "MIHAI EMINESCU" PETROSANI | F62: =Foaie1!A62 -> 25
A63: HD | B63: Petrosani | E63: CLUBUL COPIILOR SI ELEVILOR PETROSANI | F63: =Foaie1!A63 -> 0
A64: HD | B64: Pui | C64: 29033871 | D64: 529276 | E64: SCOALA GENERALA CLS I - VIII PUI | F64: =Foaie1!A64 -> 14
A65: HD | B65: Rapoltu Mare | C65: 28996288 | D65: 529410 | E65: SCOALA GENERALA CLS I - VIII RAPOLTU MARE | F65: =Foaie1!A65 -> 5
A66: HD | B66: Rau De Mori | C66: 29001195 | D66: 529575 | E66: SCOALA GENERALA CLS I - VIII RAU DE MORI | F66: =Foaie1!A66 -> 28
A67: HD | B67: Reea | C67: 29033774 | D67: 530160 | E67: SCOALA GENERALA CLS I - IV REEA | F67: =Foaie1!A67 -> 12
A68: HD | B68: Romos | C68: 29049185 | D68: 529642 | E68: SCOALA GENERALA CLS I - VIII ROMOS | F68: =Foaie1!A68 -> 8
A69: HD | B69: Salasu De Sus | C69: 29070853 | D69: 529745 | E69: SCOALA GENERALA CLS I - IV SALASU DE SUS | F69: =Foaie1!A69 -> 8
A70: HD | B70: Santamaria-Orlea | C70: 29001080 | D70: 529836 | E70: SCOALA GENERALA CLS I - VIII SINTAMARIA-ORLEA | F70: =Foaie1!A70 -> 12
A71: HD | B71: Sarmizegetusa | C71: 29001268 | D71: 529692 | E71: SCOALA GENERALA CLS I - VIII SARMIZEGETUSA | F71: =Foaie1!A71 -> 4
A72: HD | B72: Simeria | C72: 4375186 | D72: 244230 | E72: COLEGIUL TEHNIC DE TRANSPORT FEROVIAR 'ANGHEL SALIGNY' SIMERIA | F72: =Foaie1!A72 -> 41
A73: HD | B73: Simeria | C73: 4375143 | D73: 3100136 | E73: CENTRU DE PEDAGOGIE CURATIVA SIMERIA | F73: =Foaie1!A73 -> 14
A74: HD | B74: Soimus | C74: 28996563 | D74: 529977 | E74: SCOALA GENERALA CLS I - VIII SOIMUS | F74: =Foaie1!A74 -> 6
A75: HD | B75: Teliucu Inferior | C75: 29060248 | D75: 526107 | E75: SCOALA GENERALA CLS I - VIII TELIUCU INFERIOR | F75: =Foaie1!A75 -> 19
... A77: HD | B77: Uricani | C77: 12984708 | D77: 526456 | E77: SCOALA GENERALA CLS I - VIII NR 1 URICANI | F77: =Foaie1!A77 -> 5
A78: HD | B78: Vata De Jos | D78: 530275 | E78: SCOALA GENERALA CLS I - VIII VATA DE JOS | F78: =Foaie1!A78 -> 10
A79: HD | B79: Vetel | C79: 4374105 | D79: 530419 | E79: SCOALA GENERALA CLS I - VIII VETEL | F79: =Foaie1!A79 -> 14
A80: HD | B80: Vulcan | C80: 29001306 | D80: 526420 | E80: SCOALA GENERALA CLS I - VIII NR 4 VULCAN | F80: =Foaie1!A80 -> 15
A81: HD | B81: Vulcan | C81: 4375275 | D81: 530770 | E81: COLEGIUL TEHNIC 'MIHAI VITEAZU' VULCAN | F81: =Foaie1!A81 -> 29
A82: HD | B82: Zam | C82: 4468374 | D82: 530536 | E82: SCOALA GENERALA CLS I - VIII ZAM | F82: =Foaie1!A82 -> 0

Sheet Foaie1
A7: 4
A8: 14
A9: 4
A10: 4
A11: 29
A12: 4
A13: 31
A14: 0
A15: 8
A16: 12
A17: 4
A18: 0
... A82: 0
